BEGIN:VCALENDAR
VERSION:2.0
PRODID:-// - ECPv6.3.1//NONSGML v1.0//EN
CALSCALE:GREGORIAN
METHOD:PUBLISH
X-ORIGINAL-URL:https://westernflsecond.com
X-WR-CALDESC:Events for 
REFRESH-INTERVAL;VALUE=DURATION:PT1H
X-Robots-Tag:noindex
X-PUBLISHED-TTL:PT1H
BEGIN:VTIMEZONE
TZID:America/New_York
BEGIN:DAYLIGHT
TZOFFSETFROM:-0500
TZOFFSETTO:-0400
TZNAME:EDT
DTSTART:20220313T070000
END:DAYLIGHT
BEGIN:STANDARD
TZOFFSETFROM:-0400
TZOFFSETTO:-0500
TZNAME:EST
DTSTART:20221106T060000
END:STANDARD
TZID:UTC
BEGIN:STANDARD
TZOFFSETFROM:+0000
TZOFFSETTO:+0000
TZNAME:UTC
DTSTART:20220101T000000
END:STANDARD
END:VTIMEZONE
BEGIN:VEVENT
DTSTART;VALUE=DATE:20220101
DTEND;VALUE=DATE:20220123
DTSTAMP:20260425T162509
CREATED:20211227T232148Z
LAST-MODIFIED:20220104T144533Z
UID:3951-1640995200-1642895999@westernflsecond.com
SUMMARY:22 Days Of Prayer
DESCRIPTION:
URL:https://westernflsecond.com/event/22-days-of-prayer/
LOCATION:www.COGIC.org
CATEGORIES:Calendar
ATTACH;FMTTYPE=image/jpeg:https://westernflsecond.com/wp-content/uploads/2021/12/30-prayer-inter.jpg
END:VEVENT
BEGIN:VEVENT
DTSTART;TZID=America/New_York:20220104T120000
DTEND;TZID=America/New_York:20220104T130000
DTSTAMP:20260425T162509
CREATED:20220104T145455Z
LAST-MODIFIED:20220104T145620Z
UID:3969-1641297600-1641301200@westernflsecond.com
SUMMARY:22 Days Of Prayer (Tuesdays & Fridays)
DESCRIPTION:
URL:https://westernflsecond.com/event/22-days-of-prayer-2/
LOCATION:www.COGIC.org
CATEGORIES:Calendar
ATTACH;FMTTYPE=image/jpeg:https://westernflsecond.com/wp-content/uploads/2021/12/30-prayer-inter.jpg
END:VEVENT
BEGIN:VEVENT
DTSTART;TZID=America/New_York:20220107T120000
DTEND;TZID=America/New_York:20220107T130000
DTSTAMP:20260425T162509
CREATED:20220104T145808Z
LAST-MODIFIED:20220104T145808Z
UID:3968-1641556800-1641560400@westernflsecond.com
SUMMARY:22 Days Of Prayer (Tuesdays & Fridays)
DESCRIPTION:
URL:https://westernflsecond.com/event/22-days-of-prayer-tuesdays-fridays/
LOCATION:www.COGIC.org
CATEGORIES:Calendar
ATTACH;FMTTYPE=image/jpeg:https://westernflsecond.com/wp-content/uploads/2021/12/30-prayer-inter.jpg
END:VEVENT
BEGIN:VEVENT
DTSTART;TZID=America/New_York:20220108T090000
DTEND;TZID=America/New_York:20220108T093000
DTSTAMP:20260425T162509
CREATED:20220104T144727Z
LAST-MODIFIED:20220104T144727Z
UID:3910-1641632400-1641634200@westernflsecond.com
SUMMARY:Perk Up With Bishop Perkins
DESCRIPTION:.
URL:https://westernflsecond.com/event/perk-up-with-bishop-perkins-6/
LOCATION:Facebook LIVE – Mission Road Church Of God In Christ\, FL\, United States
CATEGORIES:Calendar
ATTACH;FMTTYPE=image/png:https://westernflsecond.com/wp-content/uploads/2021/04/Perk-Up2-slider.png
END:VEVENT
BEGIN:VEVENT
DTSTART;TZID=America/New_York:20220111T120000
DTEND;TZID=America/New_York:20220111T130000
DTSTAMP:20260425T162509
CREATED:20220104T150108Z
LAST-MODIFIED:20220104T150108Z
UID:3976-1641902400-1641906000@westernflsecond.com
SUMMARY:22 Days Of Prayer (Tuesdays & Fridays)
DESCRIPTION:
URL:https://westernflsecond.com/event/22-days-of-prayer-tuesdays-fridays-2/
LOCATION:www.COGIC.org
CATEGORIES:Calendar
ATTACH;FMTTYPE=image/jpeg:https://westernflsecond.com/wp-content/uploads/2021/12/30-prayer-inter.jpg
END:VEVENT
BEGIN:VEVENT
DTSTART;TZID=America/New_York:20220114T120000
DTEND;TZID=America/New_York:20220114T130000
DTSTAMP:20260425T162509
CREATED:20220104T150216Z
LAST-MODIFIED:20220104T150216Z
UID:3975-1642161600-1642165200@westernflsecond.com
SUMMARY:22 Days Of Prayer (Tuesdays & Fridays)
DESCRIPTION:
URL:https://westernflsecond.com/event/22-days-of-prayer-tuesdays-fridays-3/
LOCATION:www.COGIC.org
CATEGORIES:Calendar
ATTACH;FMTTYPE=image/jpeg:https://westernflsecond.com/wp-content/uploads/2021/12/30-prayer-inter.jpg
END:VEVENT
BEGIN:VEVENT
DTSTART;TZID=America/New_York:20220115T090000
DTEND;TZID=America/New_York:20220115T093000
DTSTAMP:20260425T162509
CREATED:20220104T144814Z
LAST-MODIFIED:20220104T144814Z
UID:3911-1642237200-1642239000@westernflsecond.com
SUMMARY:Perk Up With Bishop Perkins
DESCRIPTION:.
URL:https://westernflsecond.com/event/perk-up-with-bishop-perkins-7/
LOCATION:Facebook LIVE – Mission Road Church Of God In Christ\, FL\, United States
CATEGORIES:Calendar
ATTACH;FMTTYPE=image/png:https://westernflsecond.com/wp-content/uploads/2021/04/Perk-Up2-slider.png
END:VEVENT
BEGIN:VEVENT
DTSTART;TZID=America/New_York:20220118T120000
DTEND;TZID=America/New_York:20220118T130000
DTSTAMP:20260425T162509
CREATED:20220104T150336Z
LAST-MODIFIED:20220104T150336Z
UID:3974-1642507200-1642510800@westernflsecond.com
SUMMARY:22 Days Of Prayer (Tuesdays & Fridays)
DESCRIPTION:
URL:https://westernflsecond.com/event/22-days-of-prayer-tuesdays-fridays-4/
LOCATION:www.COGIC.org
CATEGORIES:Calendar
ATTACH;FMTTYPE=image/jpeg:https://westernflsecond.com/wp-content/uploads/2021/12/30-prayer-inter.jpg
END:VEVENT
BEGIN:VEVENT
DTSTART;TZID=America/New_York:20220121T120000
DTEND;TZID=America/New_York:20220121T130000
DTSTAMP:20260425T162509
CREATED:20220104T150456Z
LAST-MODIFIED:20220104T150456Z
UID:3973-1642766400-1642770000@westernflsecond.com
SUMMARY:22 Days Of Prayer (Tuesdays & Fridays)
DESCRIPTION:
URL:https://westernflsecond.com/event/22-days-of-prayer-tuesdays-fridays-5/
LOCATION:www.COGIC.org
CATEGORIES:Calendar
ATTACH;FMTTYPE=image/jpeg:https://westernflsecond.com/wp-content/uploads/2021/12/30-prayer-inter.jpg
END:VEVENT
BEGIN:VEVENT
DTSTART;TZID=America/New_York:20220122T090000
DTEND;TZID=America/New_York:20220122T093000
DTSTAMP:20260425T162509
CREATED:20220104T144909Z
LAST-MODIFIED:20220104T144909Z
UID:3912-1642842000-1642843800@westernflsecond.com
SUMMARY:Perk Up With Bishop Perkins
DESCRIPTION:.
URL:https://westernflsecond.com/event/perk-up-with-bishop-perkins-8/
LOCATION:Facebook LIVE – Mission Road Church Of God In Christ\, FL\, United States
CATEGORIES:Calendar
ATTACH;FMTTYPE=image/png:https://westernflsecond.com/wp-content/uploads/2021/04/Perk-Up2-slider.png
END:VEVENT
BEGIN:VEVENT
DTSTART;TZID=UTC:20220129T100000
DTEND;TZID=UTC:20220129T120000
DTSTAMP:20260425T162509
CREATED:20211210T222017Z
LAST-MODIFIED:20211210T222017Z
UID:3922-1643450400-1643457600@westernflsecond.com
SUMMARY:Planning Session 2022
DESCRIPTION:
URL:https://westernflsecond.com/event/planning-session-2022/
LOCATION:Mission Road Church of God in Christ\, 151 Mission Rd\, Oviedo\, FL\, 32765\, United States
CATEGORIES:Calendar
ATTACH;FMTTYPE=image/png:https://westernflsecond.com/wp-content/uploads/2021/12/planning-session-2022.png
END:VEVENT
END:VCALENDAR