BEGIN:VCALENDAR
VERSION:2.0
PRODID:-// - ECPv6.3.1//NONSGML v1.0//EN
CALSCALE:GREGORIAN
METHOD:PUBLISH
X-ORIGINAL-URL:https://westernflsecond.com
X-WR-CALDESC:Events for 
REFRESH-INTERVAL;VALUE=DURATION:PT1H
X-Robots-Tag:noindex
X-PUBLISHED-TTL:PT1H
BEGIN:VTIMEZONE
TZID:America/New_York
BEGIN:DAYLIGHT
TZOFFSETFROM:-0500
TZOFFSETTO:-0400
TZNAME:EDT
DTSTART:20220313T070000
END:DAYLIGHT
BEGIN:STANDARD
TZOFFSETFROM:-0400
TZOFFSETTO:-0500
TZNAME:EST
DTSTART:20221106T060000
END:STANDARD
END:VTIMEZONE
BEGIN:VEVENT
DTSTART;TZID=America/New_York:20220408T193000
DTEND;TZID=America/New_York:20220408T213000
DTSTAMP:20260425T115642
CREATED:20220405T140846Z
LAST-MODIFIED:20220405T140847Z
UID:4171-1649446200-1649453400@westernflsecond.com
SUMMARY:Bishop's Visit
DESCRIPTION:
URL:https://westernflsecond.com/event/bishops-visit/
LOCATION:Mission Road Church of God in Christ\, 151 Mission Rd\, Oviedo\, FL\, 32765\, United States
CATEGORIES:Calendar
ATTACH;FMTTYPE=image/png:https://westernflsecond.com/wp-content/uploads/2022/04/Region-Visit-Fl.png
END:VEVENT
BEGIN:VEVENT
DTSTART;TZID=America/New_York:20220411T060000
DTEND;TZID=America/New_York:20220411T063000
DTSTAMP:20260425T115642
CREATED:20220412T011411Z
LAST-MODIFIED:20220413T150421Z
UID:4238-1649656800-1649658600@westernflsecond.com
SUMMARY:Bishop William Cahoon presents Morning Manna Prayer
DESCRIPTION:
URL:https://westernflsecond.com/event/bishop-william-j-cahoon-presents-morning-manna-prayer/
LOCATION:FL
CATEGORIES:Calendar
ATTACH;FMTTYPE=image/png:https://westernflsecond.com/wp-content/uploads/2022/04/Pray1.png
END:VEVENT
BEGIN:VEVENT
DTSTART;TZID=America/New_York:20220412T060000
DTEND;TZID=America/New_York:20220412T063000
DTSTAMP:20260425T115642
CREATED:20220412T012103Z
LAST-MODIFIED:20220413T150358Z
UID:4240-1649743200-1649745000@westernflsecond.com
SUMMARY:Bishop William Cahoon presents Morning Manna Prayer
DESCRIPTION:
URL:https://westernflsecond.com/event/bishop-william-j-cahoon-presents-morning-manna-prayer-2/
LOCATION:FL
CATEGORIES:Calendar
ATTACH;FMTTYPE=image/png:https://westernflsecond.com/wp-content/uploads/2022/04/Pray1.png
END:VEVENT
BEGIN:VEVENT
DTSTART;TZID=America/New_York:20220413T060000
DTEND;TZID=America/New_York:20220413T063000
DTSTAMP:20260425T115642
CREATED:20220412T012215Z
LAST-MODIFIED:20220413T150331Z
UID:4241-1649829600-1649831400@westernflsecond.com
SUMMARY:Bishop William Cahoon presents Morning Manna Prayer
DESCRIPTION:
URL:https://westernflsecond.com/event/bishop-william-j-cahoon-presents-morning-manna-prayer-3/
LOCATION:FL
CATEGORIES:Calendar
ATTACH;FMTTYPE=image/png:https://westernflsecond.com/wp-content/uploads/2022/04/Pray1.png
END:VEVENT
BEGIN:VEVENT
DTSTART;TZID=America/New_York:20220414T060000
DTEND;TZID=America/New_York:20220414T063000
DTSTAMP:20260425T115642
CREATED:20220412T012320Z
LAST-MODIFIED:20220413T150156Z
UID:4242-1649916000-1649917800@westernflsecond.com
SUMMARY:Bishop William Cahoon presents Morning Manna Prayer
DESCRIPTION:
URL:https://westernflsecond.com/event/bishop-william-j-cahoon-presents-morning-manna-prayer-4/
LOCATION:FL
CATEGORIES:Calendar
ATTACH;FMTTYPE=image/png:https://westernflsecond.com/wp-content/uploads/2022/04/Pray1.png
END:VEVENT
BEGIN:VEVENT
DTSTART;TZID=America/New_York:20220415T060000
DTEND;TZID=America/New_York:20220415T063000
DTSTAMP:20260425T115642
CREATED:20220412T012556Z
LAST-MODIFIED:20220413T150113Z
UID:4243-1650002400-1650004200@westernflsecond.com
SUMMARY:Bishop William Cahoon presents Morning Manna Prayer
DESCRIPTION:
URL:https://westernflsecond.com/event/bishop-william-j-cahoon-presents-morning-manna-prayer-5/
LOCATION:FL
CATEGORIES:Calendar
ATTACH;FMTTYPE=image/png:https://westernflsecond.com/wp-content/uploads/2022/04/Pray1.png
END:VEVENT
BEGIN:VEVENT
DTSTART;TZID=America/New_York:20220415T070000
DTEND;TZID=America/New_York:20220415T080000
DTSTAMP:20260425T115642
CREATED:20220413T140346Z
LAST-MODIFIED:20220413T140726Z
UID:4256-1650006000-1650009600@westernflsecond.com
SUMMARY:Bishop Larry E. Perkins Presents Good Friday Clarion Prayer: A Perfected Focus
DESCRIPTION:.
URL:https://westernflsecond.com/event/bishop-larry-e-perkins-presents-good-friday-clarion-prayer-a-perfected-focus/
LOCATION:Conference Line\, FL\, United States
CATEGORIES:Calendar
ATTACH;FMTTYPE=image/png:https://westernflsecond.com/wp-content/uploads/2022/04/Good-Friday-Prayer.png
END:VEVENT
BEGIN:VEVENT
DTSTART;TZID=America/New_York:20220416T090000
DTEND;TZID=America/New_York:20220416T093000
DTSTAMP:20260425T115642
CREATED:20220405T174732Z
LAST-MODIFIED:20220405T174732Z
UID:4212-1650099600-1650101400@westernflsecond.com
SUMMARY:Perk Up With Bishop Perkins
DESCRIPTION:.
URL:https://westernflsecond.com/event/perk-up-with-bishop-perkins-14/
LOCATION:Facebook LIVE – Mission Road Church Of God In Christ\, FL\, United States
CATEGORIES:Calendar
ATTACH;FMTTYPE=image/png:https://westernflsecond.com/wp-content/uploads/2021/04/Perk-Up2-slider.png
END:VEVENT
BEGIN:VEVENT
DTSTART;TZID=America/New_York:20220421T200000
DTEND;TZID=America/New_York:20220421T210000
DTSTAMP:20260425T115642
CREATED:20220223T012655Z
LAST-MODIFIED:20220223T012655Z
UID:4064-1650571200-1650574800@westernflsecond.com
SUMMARY:2022 Missions Training
DESCRIPTION:
URL:https://westernflsecond.com/event/2022-missions-training-3/
LOCATION:FL
CATEGORIES:Calendar
ATTACH;FMTTYPE=image/jpeg:https://westernflsecond.com/wp-content/uploads/2022/02/Resized_Missions-2022.jpg
END:VEVENT
BEGIN:VEVENT
DTSTART;TZID=America/New_York:20220423T090000
DTEND;TZID=America/New_York:20220423T093000
DTSTAMP:20260425T115642
CREATED:20220405T175131Z
LAST-MODIFIED:20220405T175131Z
UID:4214-1650704400-1650706200@westernflsecond.com
SUMMARY:Perk Up With Bishop Perkins
DESCRIPTION:.
URL:https://westernflsecond.com/event/perk-up-with-bishop-perkins-15/
LOCATION:Facebook LIVE – Mission Road Church Of God In Christ\, FL\, United States
CATEGORIES:Calendar
ATTACH;FMTTYPE=image/png:https://westernflsecond.com/wp-content/uploads/2021/04/Perk-Up2-slider.png
END:VEVENT
BEGIN:VEVENT
DTSTART;TZID=America/New_York:20220430T090000
DTEND;TZID=America/New_York:20220430T093000
DTSTAMP:20260425T115642
CREATED:20220405T175231Z
LAST-MODIFIED:20220405T175231Z
UID:4215-1651309200-1651311000@westernflsecond.com
SUMMARY:Perk Up With Bishop Perkins
DESCRIPTION:.
URL:https://westernflsecond.com/event/perk-up-with-bishop-perkins-16/
LOCATION:Facebook LIVE – Mission Road Church Of God In Christ\, FL\, United States
CATEGORIES:Calendar
ATTACH;FMTTYPE=image/png:https://westernflsecond.com/wp-content/uploads/2021/04/Perk-Up2-slider.png
END:VEVENT
END:VCALENDAR