BEGIN:VCALENDAR
VERSION:2.0
PRODID:-// - ECPv6.3.1//NONSGML v1.0//EN
CALSCALE:GREGORIAN
METHOD:PUBLISH
X-ORIGINAL-URL:https://westernflsecond.com
X-WR-CALDESC:Events for 
REFRESH-INTERVAL;VALUE=DURATION:PT1H
X-Robots-Tag:noindex
X-PUBLISHED-TTL:PT1H
BEGIN:VTIMEZONE
TZID:America/New_York
BEGIN:DAYLIGHT
TZOFFSETFROM:-0500
TZOFFSETTO:-0400
TZNAME:EDT
DTSTART:20220313T070000
END:DAYLIGHT
BEGIN:STANDARD
TZOFFSETFROM:-0400
TZOFFSETTO:-0500
TZNAME:EST
DTSTART:20221106T060000
END:STANDARD
END:VTIMEZONE
BEGIN:VEVENT
DTSTART;TZID=America/New_York:20220507T090000
DTEND;TZID=America/New_York:20220507T093000
DTSTAMP:20260425T102241
CREATED:20220405T175331Z
LAST-MODIFIED:20220405T175331Z
UID:4216-1651914000-1651915800@westernflsecond.com
SUMMARY:Perk Up With Bishop Perkins
DESCRIPTION:.
URL:https://westernflsecond.com/event/perk-up-with-bishop-perkins-17/
LOCATION:Facebook LIVE – Mission Road Church Of God In Christ\, FL\, United States
CATEGORIES:Calendar
ATTACH;FMTTYPE=image/png:https://westernflsecond.com/wp-content/uploads/2021/04/Perk-Up2-slider.png
END:VEVENT
BEGIN:VEVENT
DTSTART;TZID=America/New_York:20220514T090000
DTEND;TZID=America/New_York:20220514T093000
DTSTAMP:20260425T102241
CREATED:20220405T175436Z
LAST-MODIFIED:20220405T175436Z
UID:4217-1652518800-1652520600@westernflsecond.com
SUMMARY:Perk Up With Bishop Perkins
DESCRIPTION:.
URL:https://westernflsecond.com/event/perk-up-with-bishop-perkins-18/
LOCATION:Facebook LIVE – Mission Road Church Of God In Christ\, FL\, United States
CATEGORIES:Calendar
ATTACH;FMTTYPE=image/png:https://westernflsecond.com/wp-content/uploads/2021/04/Perk-Up2-slider.png
END:VEVENT
BEGIN:VEVENT
DTSTART;TZID=America/New_York:20220521T090000
DTEND;TZID=America/New_York:20220521T093000
DTSTAMP:20260425T102241
CREATED:20220405T175538Z
LAST-MODIFIED:20220405T175538Z
UID:4218-1653123600-1653125400@westernflsecond.com
SUMMARY:Perk Up With Bishop Perkins
DESCRIPTION:.
URL:https://westernflsecond.com/event/perk-up-with-bishop-perkins-19/
LOCATION:Facebook LIVE – Mission Road Church Of God In Christ\, FL\, United States
CATEGORIES:Calendar
ATTACH;FMTTYPE=image/png:https://westernflsecond.com/wp-content/uploads/2021/04/Perk-Up2-slider.png
END:VEVENT
BEGIN:VEVENT
DTSTART;TZID=America/New_York:20220526T200000
DTEND;TZID=America/New_York:20220526T210000
DTSTAMP:20260425T102241
CREATED:20220223T012820Z
LAST-MODIFIED:20220223T012820Z
UID:4065-1653595200-1653598800@westernflsecond.com
SUMMARY:2022 Missions Training
DESCRIPTION:
URL:https://westernflsecond.com/event/2022-missions-training-4/
LOCATION:FL
CATEGORIES:Calendar
ATTACH;FMTTYPE=image/jpeg:https://westernflsecond.com/wp-content/uploads/2022/02/Resized_Missions-2022.jpg
END:VEVENT
BEGIN:VEVENT
DTSTART;TZID=America/New_York:20220528T090000
DTEND;TZID=America/New_York:20220528T093000
DTSTAMP:20260425T102241
CREATED:20220405T175707Z
LAST-MODIFIED:20220405T175707Z
UID:4224-1653728400-1653730200@westernflsecond.com
SUMMARY:Perk Up With Bishop Perkins
DESCRIPTION:.
URL:https://westernflsecond.com/event/perk-up-with-bishop-perkins-20/
LOCATION:Facebook LIVE – Mission Road Church Of God In Christ\, FL\, United States
CATEGORIES:Calendar
ATTACH;FMTTYPE=image/png:https://westernflsecond.com/wp-content/uploads/2021/04/Perk-Up2-slider.png
END:VEVENT
BEGIN:VEVENT
DTSTART;TZID=America/New_York:20220530T190000
DTEND;TZID=America/New_York:20220603T190000
DTSTAMP:20260425T102241
CREATED:20220303T153056Z
LAST-MODIFIED:20220303T153309Z
UID:4100-1653937200-1654282800@westernflsecond.com
SUMMARY:72nd Women’s International Convention - COGIC \, Inc
DESCRIPTION:Church of God In Christ Inc.\n72nd Women’s International Convention\nMay 30 – June 3\, 2022\nOrlando\, Florida \nMother Barbara McCoo Lewis\,\nPresident & General Supervisor  \nBishop J. Drew Sheard & Lady Karen Clark Sheard\,\nPresiding Bishop and First Lady \nLady Barbara McKinney\, Esq.\nWIC Administrative Facilitator \nRegister and View 2022 Convention Brochure:\nhttps://www.cogic.org/womensdepartment/
URL:https://westernflsecond.com/event/cogic-72nd-womens-international-convention/
LOCATION:FL
CATEGORIES:Calendar
END:VEVENT
END:VCALENDAR