BEGIN:VCALENDAR
VERSION:2.0
PRODID:-// - ECPv6.3.1//NONSGML v1.0//EN
CALSCALE:GREGORIAN
METHOD:PUBLISH
X-ORIGINAL-URL:https://westernflsecond.com
X-WR-CALDESC:Events for 
REFRESH-INTERVAL;VALUE=DURATION:PT1H
X-Robots-Tag:noindex
X-PUBLISHED-TTL:PT1H
BEGIN:VTIMEZONE
TZID:America/New_York
BEGIN:DAYLIGHT
TZOFFSETFROM:-0500
TZOFFSETTO:-0400
TZNAME:EDT
DTSTART:20240310T070000
END:DAYLIGHT
BEGIN:STANDARD
TZOFFSETFROM:-0400
TZOFFSETTO:-0500
TZNAME:EST
DTSTART:20241103T060000
END:STANDARD
END:VTIMEZONE
BEGIN:VEVENT
DTSTART;TZID=America/New_York:20240908T193000
DTEND;TZID=America/New_York:20240908T220000
DTSTAMP:20260423T141119
CREATED:20240824T221112Z
LAST-MODIFIED:20240824T221507Z
UID:5432-1725823800-1725832800@westernflsecond.com
SUMMARY:Trinity COGIC 14th Founder's Day Celebration
DESCRIPTION:
URL:https://westernflsecond.com/event/trinity-cogic-14th-founders-day-celebration/
LOCATION:Trinity Church\, 8197 N University Dr\, Tamarac\, FL\, 33321\, United States
CATEGORIES:Calendar
ATTACH;FMTTYPE=image/jpeg:https://westernflsecond.com/wp-content/uploads/2024/08/image000002.jpg
END:VEVENT
BEGIN:VEVENT
DTSTART;TZID=America/New_York:20240920T070000
DTEND;TZID=America/New_York:20240920T073000
DTSTAMP:20260423T141119
CREATED:20240916T144905Z
LAST-MODIFIED:20240916T144905Z
UID:5339-1726815600-1726817400@westernflsecond.com
SUMMARY:Bishop Larry E. Perkins Presents Clarion Call Prayer
DESCRIPTION:.
URL:https://westernflsecond.com/event/bishop-larry-e-perkins-presents-clarion-call-prayer-41/
LOCATION:Conference Line\, FL\, United States
CATEGORIES:Calendar
ATTACH;FMTTYPE=image/png:https://westernflsecond.com/wp-content/uploads/2023/09/Friday-Prayer-Slider.png
END:VEVENT
BEGIN:VEVENT
DTSTART;TZID=America/New_York:20240927T070000
DTEND;TZID=America/New_York:20240927T073000
DTSTAMP:20260423T141119
CREATED:20240702T174642Z
LAST-MODIFIED:20240925T153946Z
UID:5257-1727420400-1727422200@westernflsecond.com
SUMMARY:Bishop Larry E. Perkins Presents Clarion Call Prayer
DESCRIPTION:.
URL:https://westernflsecond.com/event/bishop-larry-e-perkins-presents-clarion-call-prayer-35/
LOCATION:Conference Line\, FL\, United States
CATEGORIES:Calendar
ATTACH;FMTTYPE=image/png:https://westernflsecond.com/wp-content/uploads/2023/09/Friday-Prayer-Slider.png
END:VEVENT
BEGIN:VEVENT
DTSTART;TZID=America/New_York:20240930T070000
DTEND;TZID=America/New_York:20240930T073000
DTSTAMP:20260423T141119
CREATED:20240928T132137Z
LAST-MODIFIED:20240930T144404Z
UID:5454-1727679600-1727681400@westernflsecond.com
SUMMARY:Pre-Convention Consecrated Prayer
DESCRIPTION:.
URL:https://westernflsecond.com/event/pre-convention-consecrated-prayer/
LOCATION:Conference Line\, FL\, United States
CATEGORIES:Calendar
ATTACH;FMTTYPE=image/jpeg:https://westernflsecond.com/wp-content/uploads/2024/09/pryr.jpg
END:VEVENT
END:VCALENDAR