BEGIN:VCALENDAR
VERSION:2.0
PRODID:-// - ECPv6.3.1//NONSGML v1.0//EN
CALSCALE:GREGORIAN
METHOD:PUBLISH
X-ORIGINAL-URL:https://westernflsecond.com
X-WR-CALDESC:Events for 
REFRESH-INTERVAL;VALUE=DURATION:PT1H
X-Robots-Tag:noindex
X-PUBLISHED-TTL:PT1H
BEGIN:VTIMEZONE
TZID:America/New_York
BEGIN:DAYLIGHT
TZOFFSETFROM:-0500
TZOFFSETTO:-0400
TZNAME:EDT
DTSTART:20240310T070000
END:DAYLIGHT
BEGIN:STANDARD
TZOFFSETFROM:-0400
TZOFFSETTO:-0500
TZNAME:EST
DTSTART:20241103T060000
END:STANDARD
END:VTIMEZONE
BEGIN:VEVENT
DTSTART;TZID=America/New_York:20241204T190000
DTEND;TZID=America/New_York:20241204T220000
DTSTAMP:20260423T092120
CREATED:20240806T160452Z
LAST-MODIFIED:20241025T005921Z
UID:5421-1733338800-1733349600@westernflsecond.com
SUMMARY:2024 Women's Convention
DESCRIPTION:Hotel Accommodations \nFairfield Inn & Suites \n3420 Lake Lynda Dr\, Orlando\, FL 32817 \n(407) 270-6480 \n  \n 
URL:https://westernflsecond.com/event/2024-womens-convention/
LOCATION:Mission Road Church of God in Christ\, 151 Mission Rd\, Oviedo\, FL\, 32765\, United States
CATEGORIES:Calendar
ATTACH;FMTTYPE=image/jpeg:https://westernflsecond.com/wp-content/uploads/2024/08/image000000-4.jpg
END:VEVENT
BEGIN:VEVENT
DTSTART;TZID=America/New_York:20241205T190000
DTEND;TZID=America/New_York:20241205T220000
DTSTAMP:20260423T092120
CREATED:20240806T161123Z
LAST-MODIFIED:20241025T010015Z
UID:5427-1733425200-1733436000@westernflsecond.com
SUMMARY:2024 Women's Convention
DESCRIPTION:Hotel Accommodations \nFairfield Inn & Suites \n3420 Lake Lynda Dr\, Orlando\, FL 32817 \n(407) 270-6480 \n  \n 
URL:https://westernflsecond.com/event/2024-womens-convention-2/
LOCATION:Mission Road Church of God in Christ\, 151 Mission Rd\, Oviedo\, FL\, 32765\, United States
CATEGORIES:Calendar
ATTACH;FMTTYPE=image/jpeg:https://westernflsecond.com/wp-content/uploads/2024/08/image000000-4.jpg
END:VEVENT
BEGIN:VEVENT
DTSTART;TZID=America/New_York:20241206T190000
DTEND;TZID=America/New_York:20241206T220000
DTSTAMP:20260423T092120
CREATED:20240806T163816Z
LAST-MODIFIED:20241025T010201Z
UID:5426-1733511600-1733522400@westernflsecond.com
SUMMARY:2024 Women's Convention
DESCRIPTION:Hotel Accommodations \nFairfield Inn & Suites \n3420 Lake Lynda Dr\, Orlando\, FL 32817 \n(407) 270-6480 \n  \n 
URL:https://westernflsecond.com/event/2024-womens-convention-3/
LOCATION:Mission Road Church of God in Christ\, 151 Mission Rd\, Oviedo\, FL\, 32765\, United States
CATEGORIES:Calendar
ATTACH;FMTTYPE=image/jpeg:https://westernflsecond.com/wp-content/uploads/2024/08/image000000-4.jpg
END:VEVENT
BEGIN:VEVENT
DTSTART;TZID=America/New_York:20241213T070000
DTEND;TZID=America/New_York:20241213T073000
DTSTAMP:20260423T092120
CREATED:20241202T151413Z
LAST-MODIFIED:20241202T151413Z
UID:5486-1734073200-1734075000@westernflsecond.com
SUMMARY:Bishop Larry E. Perkins Presents Clarion Call Prayer
DESCRIPTION:.
URL:https://westernflsecond.com/event/bishop-larry-e-perkins-presents-clarion-call-prayer-44/
LOCATION:Conference Line\, FL\, United States
CATEGORIES:Calendar
ATTACH;FMTTYPE=image/png:https://westernflsecond.com/wp-content/uploads/2023/09/Friday-Prayer-Slider.png
END:VEVENT
BEGIN:VEVENT
DTSTART;TZID=America/New_York:20241220T070000
DTEND;TZID=America/New_York:20241220T073000
DTSTAMP:20260423T092120
CREATED:20241202T151511Z
LAST-MODIFIED:20241202T151511Z
UID:5485-1734678000-1734679800@westernflsecond.com
SUMMARY:Bishop Larry E. Perkins Presents Clarion Call Prayer
DESCRIPTION:.
URL:https://westernflsecond.com/event/bishop-larry-e-perkins-presents-clarion-call-prayer-45/
LOCATION:Conference Line\, FL\, United States
CATEGORIES:Calendar
ATTACH;FMTTYPE=image/png:https://westernflsecond.com/wp-content/uploads/2023/09/Friday-Prayer-Slider.png
END:VEVENT
END:VCALENDAR