BEGIN:VCALENDAR
VERSION:2.0
PRODID:-// - ECPv6.3.1//NONSGML v1.0//EN
CALSCALE:GREGORIAN
METHOD:PUBLISH
X-ORIGINAL-URL:https://westernflsecond.com
X-WR-CALDESC:Events for 
REFRESH-INTERVAL;VALUE=DURATION:PT1H
X-Robots-Tag:noindex
X-PUBLISHED-TTL:PT1H
BEGIN:VTIMEZONE
TZID:America/New_York
BEGIN:DAYLIGHT
TZOFFSETFROM:-0500
TZOFFSETTO:-0400
TZNAME:EDT
DTSTART:20250309T070000
END:DAYLIGHT
BEGIN:STANDARD
TZOFFSETFROM:-0400
TZOFFSETTO:-0500
TZNAME:EST
DTSTART:20251102T060000
END:STANDARD
TZID:UTC
BEGIN:STANDARD
TZOFFSETFROM:+0000
TZOFFSETTO:+0000
TZNAME:UTC
DTSTART:20250101T000000
END:STANDARD
END:VTIMEZONE
BEGIN:VEVENT
DTSTART;VALUE=DATE:20250101
DTEND;VALUE=DATE:20250122
DTSTAMP:20260423T074338
CREATED:20241227T203600Z
LAST-MODIFIED:20241227T210530Z
UID:5313-1735689600-1737503999@westernflsecond.com
SUMMARY:Bishop Perkins presents 21 Days of Prayer: The Holy Legacy that Sets the Place
DESCRIPTION:.
URL:https://westernflsecond.com/event/bishop-larry-e-perkins-presents-clarion-call-prayer-29/
LOCATION:FL
CATEGORIES:Calendar
ATTACH;FMTTYPE=image/jpeg:https://westernflsecond.com/wp-content/uploads/2024/05/image000000-6.jpg
END:VEVENT
BEGIN:VEVENT
DTSTART;TZID=America/New_York:20250103T070000
DTEND;TZID=America/New_York:20250103T073000
DTSTAMP:20260423T074338
CREATED:20241227T212749Z
LAST-MODIFIED:20241227T212749Z
UID:5491-1735887600-1735889400@westernflsecond.com
SUMMARY:Bishop Larry E. Perkins Presents Clarion Call Prayer
DESCRIPTION:.
URL:https://westernflsecond.com/event/bishop-larry-e-perkins-presents-clarion-call-prayer-46/
LOCATION:Conference Line\, FL\, United States
CATEGORIES:Calendar
ATTACH;FMTTYPE=image/png:https://westernflsecond.com/wp-content/uploads/2023/09/Friday-Prayer-Slider.png
END:VEVENT
BEGIN:VEVENT
DTSTART;TZID=America/New_York:20250110T070000
DTEND;TZID=America/New_York:20250110T073000
DTSTAMP:20260423T074338
CREATED:20241227T212852Z
LAST-MODIFIED:20241227T212852Z
UID:5484-1736492400-1736494200@westernflsecond.com
SUMMARY:Bishop Larry E. Perkins Presents Clarion Call Prayer
DESCRIPTION:.
URL:https://westernflsecond.com/event/bishop-larry-e-perkins-presents-clarion-call-prayer-47/
LOCATION:Conference Line\, FL\, United States
CATEGORIES:Calendar
ATTACH;FMTTYPE=image/png:https://westernflsecond.com/wp-content/uploads/2023/09/Friday-Prayer-Slider.png
END:VEVENT
BEGIN:VEVENT
DTSTART;VALUE=DATE:20250113
DTEND;VALUE=DATE:20250117
DTSTAMP:20260423T074338
CREATED:20241227T225639Z
LAST-MODIFIED:20241227T225707Z
UID:5442-1736726400-1737071999@westernflsecond.com
SUMMARY:Church of God in Christ Leadership Conference
DESCRIPTION:  \n 
URL:https://westernflsecond.com/event/2024-ordination-service/
LOCATION:Mission Road Church of God in Christ\, 151 Mission Rd\, Oviedo\, FL\, 32765\, United States
CATEGORIES:Calendar
ATTACH;FMTTYPE=image/jpeg:https://westernflsecond.com/wp-content/uploads/2024/09/Leadership-National.jpg
END:VEVENT
BEGIN:VEVENT
DTSTART;TZID=America/New_York:20250117T070000
DTEND;TZID=America/New_York:20250117T073000
DTSTAMP:20260423T074338
CREATED:20241227T213123Z
LAST-MODIFIED:20241227T213123Z
UID:5499-1737097200-1737099000@westernflsecond.com
SUMMARY:Bishop Larry E. Perkins Presents Clarion Call Prayer
DESCRIPTION:.
URL:https://westernflsecond.com/event/bishop-larry-e-perkins-presents-clarion-call-prayer-48/
LOCATION:Conference Line\, FL\, United States
CATEGORIES:Calendar
ATTACH;FMTTYPE=image/png:https://westernflsecond.com/wp-content/uploads/2023/09/Friday-Prayer-Slider.png
END:VEVENT
BEGIN:VEVENT
DTSTART;TZID=America/New_York:20250124T070000
DTEND;TZID=America/New_York:20250124T073000
DTSTAMP:20260423T074338
CREATED:20241227T213259Z
LAST-MODIFIED:20241227T213259Z
UID:5501-1737702000-1737703800@westernflsecond.com
SUMMARY:Bishop Larry E. Perkins Presents Clarion Call Prayer
DESCRIPTION:.
URL:https://westernflsecond.com/event/bishop-larry-e-perkins-presents-clarion-call-prayer-49/
LOCATION:Conference Line\, FL\, United States
CATEGORIES:Calendar
ATTACH;FMTTYPE=image/png:https://westernflsecond.com/wp-content/uploads/2023/09/Friday-Prayer-Slider.png
END:VEVENT
BEGIN:VEVENT
DTSTART;TZID=UTC:20250125T090000
DTEND;TZID=UTC:20250125T120000
DTSTAMP:20260423T074338
CREATED:20241230T190810Z
LAST-MODIFIED:20241230T190810Z
UID:5515-1737795600-1737806400@westernflsecond.com
SUMMARY:2025 Jurisdictional Planning Session
DESCRIPTION:
URL:https://westernflsecond.com/event/2025-jurisdictional-planning-session/
LOCATION:Mission Road Church of God in Christ\, 151 Mission Rd\, Oviedo\, FL\, 32765\, United States
CATEGORIES:Calendar
ATTACH;FMTTYPE=image/jpeg:https://westernflsecond.com/wp-content/uploads/2024/12/2710957139637684336.jpeg
END:VEVENT
BEGIN:VEVENT
DTSTART;TZID=America/New_York:20250131T070000
DTEND;TZID=America/New_York:20250131T073000
DTSTAMP:20260423T074338
CREATED:20241227T213452Z
LAST-MODIFIED:20241227T213452Z
UID:5503-1738306800-1738308600@westernflsecond.com
SUMMARY:Bishop Larry E. Perkins Presents Clarion Call Prayer
DESCRIPTION:.
URL:https://westernflsecond.com/event/bishop-larry-e-perkins-presents-clarion-call-prayer-50/
LOCATION:Conference Line\, FL\, United States
CATEGORIES:Calendar
ATTACH;FMTTYPE=image/png:https://westernflsecond.com/wp-content/uploads/2023/09/Friday-Prayer-Slider.png
END:VEVENT
END:VCALENDAR