BEGIN:VCALENDAR
VERSION:2.0
PRODID:-// - ECPv6.3.1//NONSGML v1.0//EN
CALSCALE:GREGORIAN
METHOD:PUBLISH
X-ORIGINAL-URL:https://westernflsecond.com
X-WR-CALDESC:Events for 
REFRESH-INTERVAL;VALUE=DURATION:PT1H
X-Robots-Tag:noindex
X-PUBLISHED-TTL:PT1H
BEGIN:VTIMEZONE
TZID:America/New_York
BEGIN:DAYLIGHT
TZOFFSETFROM:-0500
TZOFFSETTO:-0400
TZNAME:EDT
DTSTART:20250309T070000
END:DAYLIGHT
BEGIN:STANDARD
TZOFFSETFROM:-0400
TZOFFSETTO:-0500
TZNAME:EST
DTSTART:20251102T060000
END:STANDARD
END:VTIMEZONE
BEGIN:VEVENT
DTSTART;TZID=America/New_York:20250411T070000
DTEND;TZID=America/New_York:20250411T073000
DTSTAMP:20260423T092259
CREATED:20250407T195153Z
LAST-MODIFIED:20250407T195153Z
UID:5558-1744354800-1744356600@westernflsecond.com
SUMMARY:Bishop Larry E. Perkins Presents Clarion Call Prayer
DESCRIPTION:.
URL:https://westernflsecond.com/event/bishop-larry-e-perkins-presents-clarion-call-prayer-51/
LOCATION:Conference Line\, FL\, United States
CATEGORIES:Calendar
ATTACH;FMTTYPE=image/png:https://westernflsecond.com/wp-content/uploads/2025/04/Friday-Prayer-Slider.png
END:VEVENT
BEGIN:VEVENT
DTSTART;TZID=America/New_York:20250418T070000
DTEND;TZID=America/New_York:20250418T073000
DTSTAMP:20260423T092259
CREATED:20250407T200239Z
LAST-MODIFIED:20250407T200239Z
UID:5557-1744959600-1744961400@westernflsecond.com
SUMMARY:Bishop Larry E. Perkins Presents Clarion Call Prayer
DESCRIPTION:.
URL:https://westernflsecond.com/event/bishop-larry-e-perkins-presents-clarion-call-prayer-52/
LOCATION:Conference Line\, FL\, United States
CATEGORIES:Calendar
ATTACH;FMTTYPE=image/png:https://westernflsecond.com/wp-content/uploads/2025/04/Friday-Prayer-Slider.png
END:VEVENT
BEGIN:VEVENT
DTSTART;TZID=America/New_York:20250421T193000
DTEND;TZID=America/New_York:20250421T200000
DTSTAMP:20260423T092259
CREATED:20250421T161637Z
LAST-MODIFIED:20250421T161637Z
UID:5568-1745263800-1745265600@westernflsecond.com
SUMMARY:Pre-Women's Convention Consecrated Prayer
DESCRIPTION:.
URL:https://westernflsecond.com/event/pre-womens-convention-consecrated-prayer/
LOCATION:Conference Line\, FL\, United States
CATEGORIES:Calendar
ATTACH;FMTTYPE=image/png:https://westernflsecond.com/wp-content/uploads/2025/04/Pre-Convention-Prayer.png
END:VEVENT
BEGIN:VEVENT
DTSTART;TZID=America/New_York:20250423T190000
DTEND;TZID=America/New_York:20250423T220000
DTSTAMP:20260423T092259
CREATED:20250225T012100Z
LAST-MODIFIED:20250319T194340Z
UID:5535-1745434800-1745445600@westernflsecond.com
SUMMARY:2025 Women's Convention
DESCRIPTION:
URL:https://westernflsecond.com/event/2025-womens-convention/
LOCATION:Mission Road Church of God in Christ\, 151 Mission Rd\, Oviedo\, FL\, 32765\, United States
CATEGORIES:Calendar
ATTACH;FMTTYPE=image/jpeg:https://westernflsecond.com/wp-content/uploads/2025/03/2025-JOY-NIGHT.jpg
END:VEVENT
BEGIN:VEVENT
DTSTART;TZID=America/New_York:20250424T190000
DTEND;TZID=America/New_York:20250424T220000
DTSTAMP:20260423T092259
CREATED:20250225T012545Z
LAST-MODIFIED:20250225T012545Z
UID:5538-1745521200-1745532000@westernflsecond.com
SUMMARY:2025 Women's Convention
DESCRIPTION:
URL:https://westernflsecond.com/event/2025-womens-convention-2/
LOCATION:Mission Road Church of God in Christ\, 151 Mission Rd\, Oviedo\, FL\, 32765\, United States
CATEGORIES:Calendar
ATTACH;FMTTYPE=image/jpeg:https://westernflsecond.com/wp-content/uploads/2025/02/IMG_8292.jpg
END:VEVENT
BEGIN:VEVENT
DTSTART;TZID=America/New_York:20250425T190000
DTEND;TZID=America/New_York:20250425T220000
DTSTAMP:20260423T092259
CREATED:20250225T012716Z
LAST-MODIFIED:20250225T012716Z
UID:5540-1745607600-1745618400@westernflsecond.com
SUMMARY:2025 Women's Convention
DESCRIPTION:
URL:https://westernflsecond.com/event/2025-womens-convention-3/
LOCATION:Mission Road Church of God in Christ\, 151 Mission Rd\, Oviedo\, FL\, 32765\, United States
CATEGORIES:Calendar
ATTACH;FMTTYPE=image/jpeg:https://westernflsecond.com/wp-content/uploads/2025/02/IMG_8292.jpg
END:VEVENT
END:VCALENDAR