BEGIN:VCALENDAR
VERSION:2.0
PRODID:-// - ECPv6.3.1//NONSGML v1.0//EN
CALSCALE:GREGORIAN
METHOD:PUBLISH
X-ORIGINAL-URL:https://westernflsecond.com
X-WR-CALDESC:Events for 
REFRESH-INTERVAL;VALUE=DURATION:PT1H
X-Robots-Tag:noindex
X-PUBLISHED-TTL:PT1H
BEGIN:VTIMEZONE
TZID:America/New_York
BEGIN:DAYLIGHT
TZOFFSETFROM:-0500
TZOFFSETTO:-0400
TZNAME:EDT
DTSTART:20230312T070000
END:DAYLIGHT
BEGIN:STANDARD
TZOFFSETFROM:-0400
TZOFFSETTO:-0500
TZNAME:EST
DTSTART:20231105T060000
END:STANDARD
END:VTIMEZONE
BEGIN:VEVENT
DTSTART;TZID=America/New_York:20230529T190000
DTEND;TZID=America/New_York:20230602T190000
DTSTAMP:20260424T154306
CREATED:20230426T011945Z
LAST-MODIFIED:20230426T011945Z
UID:4621-1685386800-1685732400@westernflsecond.com
SUMMARY:73rd Women’s International Convention - COGIC \, Inc
DESCRIPTION:Church of God In Christ Inc.\n72nd Women’s International Convention\nMay 29 – June 2\, 2023\nOrlando\, Florida \nMother Barbara McCoo Lewis\,\nPresident & General Supervisor \nBishop J. Drew Sheard & Lady Karen Clark Sheard\,\nPresiding Bishop and First Lady \nLady Barbara McKinney\, Esq.\nWIC Administrative Facilitator \nRegister and View 2023 Convention Brochure:\nhttps://www.cogic.org/womensdepartment/
URL:https://westernflsecond.com/event/73rd-womens-international-convention-cogic-inc/
LOCATION:FL
CATEGORIES:Calendar
ATTACH;FMTTYPE=image/jpeg:https://westernflsecond.com/wp-content/uploads/2023/04/unnamed.jpg
END:VEVENT
END:VCALENDAR