BEGIN:VCALENDAR
VERSION:2.0
PRODID:-// - ECPv6.3.1//NONSGML v1.0//EN
CALSCALE:GREGORIAN
METHOD:PUBLISH
X-ORIGINAL-URL:https://westernflsecond.com
X-WR-CALDESC:Events for 
REFRESH-INTERVAL;VALUE=DURATION:PT1H
X-Robots-Tag:noindex
X-PUBLISHED-TTL:PT1H
BEGIN:VTIMEZONE
TZID:America/New_York
BEGIN:DAYLIGHT
TZOFFSETFROM:-0500
TZOFFSETTO:-0400
TZNAME:EDT
DTSTART:20240310T070000
END:DAYLIGHT
BEGIN:STANDARD
TZOFFSETFROM:-0400
TZOFFSETTO:-0500
TZNAME:EST
DTSTART:20241103T060000
END:STANDARD
END:VTIMEZONE
BEGIN:VEVENT
DTSTART;VALUE=DATE:20240801
DTEND;VALUE=DATE:20240802
DTSTAMP:20260423T174712
CREATED:20240620T212414Z
LAST-MODIFIED:20240620T212442Z
UID:5358-1722470400-1722556799@westernflsecond.com
SUMMARY:2024 Holy Convocation
DESCRIPTION:  \n\nHotel Accommodations\nFairfield Inn & Suites\, Orlando East\n3420 Lake Lynda Dr\nOrlando\, FL 32817 \n(407) 270-6480
URL:https://westernflsecond.com/event/2024-holy-convocation-aim-convention-2/
LOCATION:Mission Road Church of God in Christ\, 151 Mission Rd\, Oviedo\, FL\, 32765\, United States
CATEGORIES:Calendar
ATTACH;FMTTYPE=image/jpeg:https://westernflsecond.com/wp-content/uploads/2024/06/image000000-1.jpg
END:VEVENT
END:VCALENDAR