BEGIN:VCALENDAR
VERSION:2.0
PRODID:-// - ECPv6.3.1//NONSGML v1.0//EN
CALSCALE:GREGORIAN
METHOD:PUBLISH
X-ORIGINAL-URL:https://westernflsecond.com
X-WR-CALDESC:Events for 
REFRESH-INTERVAL;VALUE=DURATION:PT1H
X-Robots-Tag:noindex
X-PUBLISHED-TTL:PT1H
BEGIN:VTIMEZONE
TZID:America/New_York
BEGIN:DAYLIGHT
TZOFFSETFROM:-0500
TZOFFSETTO:-0400
TZNAME:EDT
DTSTART:20240310T070000
END:DAYLIGHT
BEGIN:STANDARD
TZOFFSETFROM:-0400
TZOFFSETTO:-0500
TZNAME:EST
DTSTART:20241103T060000
END:STANDARD
END:VTIMEZONE
BEGIN:VEVENT
DTSTART;TZID=America/New_York:20241031T120000
DTEND;TZID=America/New_York:20241031T130000
DTSTAMP:20260423T122538
CREATED:20241018T144926Z
LAST-MODIFIED:20241018T144926Z
UID:5474-1730376000-1730379600@westernflsecond.com
SUMMARY:The International Prayer Ministry
DESCRIPTION:
URL:https://westernflsecond.com/event/the-international-prayer-ministry-8/
LOCATION:www.COGIC.org
CATEGORIES:Calendar
ATTACH;FMTTYPE=image/jpeg:https://westernflsecond.com/wp-content/uploads/2024/10/IMG_7583.jpg
END:VEVENT
END:VCALENDAR