BEGIN:VCALENDAR
VERSION:2.0
PRODID:-// - ECPv6.3.1//NONSGML v1.0//EN
CALSCALE:GREGORIAN
METHOD:PUBLISH
X-ORIGINAL-URL:https://westernflsecond.com
X-WR-CALDESC:Events for 
REFRESH-INTERVAL;VALUE=DURATION:PT1H
X-Robots-Tag:noindex
X-PUBLISHED-TTL:PT1H
BEGIN:VTIMEZONE
TZID:America/New_York
BEGIN:DAYLIGHT
TZOFFSETFROM:-0500
TZOFFSETTO:-0400
TZNAME:EDT
DTSTART:20250309T070000
END:DAYLIGHT
BEGIN:STANDARD
TZOFFSETFROM:-0400
TZOFFSETTO:-0500
TZNAME:EST
DTSTART:20251102T060000
END:STANDARD
END:VTIMEZONE
BEGIN:VEVENT
DTSTART;VALUE=DATE:20250101
DTEND;VALUE=DATE:20250122
DTSTAMP:20260423T092628
CREATED:20241227T203600Z
LAST-MODIFIED:20241227T210530Z
UID:5313-1735689600-1737503999@westernflsecond.com
SUMMARY:Bishop Perkins presents 21 Days of Prayer: The Holy Legacy that Sets the Place
DESCRIPTION:.
URL:https://westernflsecond.com/event/bishop-larry-e-perkins-presents-clarion-call-prayer-29/
LOCATION:FL
CATEGORIES:Calendar
ATTACH;FMTTYPE=image/jpeg:https://westernflsecond.com/wp-content/uploads/2024/05/image000000-6.jpg
END:VEVENT
BEGIN:VEVENT
DTSTART;VALUE=DATE:20250113
DTEND;VALUE=DATE:20250117
DTSTAMP:20260423T092628
CREATED:20241227T225639Z
LAST-MODIFIED:20241227T225707Z
UID:5442-1736726400-1737071999@westernflsecond.com
SUMMARY:Church of God in Christ Leadership Conference
DESCRIPTION:  \n 
URL:https://westernflsecond.com/event/2024-ordination-service/
LOCATION:Mission Road Church of God in Christ\, 151 Mission Rd\, Oviedo\, FL\, 32765\, United States
CATEGORIES:Calendar
ATTACH;FMTTYPE=image/jpeg:https://westernflsecond.com/wp-content/uploads/2024/09/Leadership-National.jpg
END:VEVENT
END:VCALENDAR