BEGIN:VCALENDAR
VERSION:2.0
PRODID:-// - ECPv6.3.1//NONSGML v1.0//EN
CALSCALE:GREGORIAN
METHOD:PUBLISH
X-ORIGINAL-URL:https://westernflsecond.com
X-WR-CALDESC:Events for 
REFRESH-INTERVAL;VALUE=DURATION:PT1H
X-Robots-Tag:noindex
X-PUBLISHED-TTL:PT1H
BEGIN:VTIMEZONE
TZID:America/New_York
BEGIN:DAYLIGHT
TZOFFSETFROM:-0500
TZOFFSETTO:-0400
TZNAME:EDT
DTSTART:20250309T070000
END:DAYLIGHT
BEGIN:STANDARD
TZOFFSETFROM:-0400
TZOFFSETTO:-0500
TZNAME:EST
DTSTART:20251102T060000
END:STANDARD
END:VTIMEZONE
BEGIN:VEVENT
DTSTART;TZID=America/New_York:20250421T193000
DTEND;TZID=America/New_York:20250421T200000
DTSTAMP:20260423T125005
CREATED:20250421T161637Z
LAST-MODIFIED:20250421T161637Z
UID:5568-1745263800-1745265600@westernflsecond.com
SUMMARY:Pre-Women's Convention Consecrated Prayer
DESCRIPTION:.
URL:https://westernflsecond.com/event/pre-womens-convention-consecrated-prayer/
LOCATION:Conference Line\, FL\, United States
CATEGORIES:Calendar
ATTACH;FMTTYPE=image/png:https://westernflsecond.com/wp-content/uploads/2025/04/Pre-Convention-Prayer.png
END:VEVENT
BEGIN:VEVENT
DTSTART;TZID=America/New_York:20250423T190000
DTEND;TZID=America/New_York:20250423T220000
DTSTAMP:20260423T125005
CREATED:20250225T012100Z
LAST-MODIFIED:20250319T194340Z
UID:5535-1745434800-1745445600@westernflsecond.com
SUMMARY:2025 Women's Convention
DESCRIPTION:
URL:https://westernflsecond.com/event/2025-womens-convention/
LOCATION:Mission Road Church of God in Christ\, 151 Mission Rd\, Oviedo\, FL\, 32765\, United States
CATEGORIES:Calendar
ATTACH;FMTTYPE=image/jpeg:https://westernflsecond.com/wp-content/uploads/2025/03/2025-JOY-NIGHT.jpg
END:VEVENT
BEGIN:VEVENT
DTSTART;TZID=America/New_York:20250424T190000
DTEND;TZID=America/New_York:20250424T220000
DTSTAMP:20260423T125005
CREATED:20250225T012545Z
LAST-MODIFIED:20250225T012545Z
UID:5538-1745521200-1745532000@westernflsecond.com
SUMMARY:2025 Women's Convention
DESCRIPTION:
URL:https://westernflsecond.com/event/2025-womens-convention-2/
LOCATION:Mission Road Church of God in Christ\, 151 Mission Rd\, Oviedo\, FL\, 32765\, United States
CATEGORIES:Calendar
ATTACH;FMTTYPE=image/jpeg:https://westernflsecond.com/wp-content/uploads/2025/02/IMG_8292.jpg
END:VEVENT
BEGIN:VEVENT
DTSTART;TZID=America/New_York:20250425T190000
DTEND;TZID=America/New_York:20250425T220000
DTSTAMP:20260423T125005
CREATED:20250225T012716Z
LAST-MODIFIED:20250225T012716Z
UID:5540-1745607600-1745618400@westernflsecond.com
SUMMARY:2025 Women's Convention
DESCRIPTION:
URL:https://westernflsecond.com/event/2025-womens-convention-3/
LOCATION:Mission Road Church of God in Christ\, 151 Mission Rd\, Oviedo\, FL\, 32765\, United States
CATEGORIES:Calendar
ATTACH;FMTTYPE=image/jpeg:https://westernflsecond.com/wp-content/uploads/2025/02/IMG_8292.jpg
END:VEVENT
BEGIN:VEVENT
DTSTART;TZID=America/New_York:20250502T070000
DTEND;TZID=America/New_York:20250502T073000
DTSTAMP:20260423T125005
CREATED:20250407T202254Z
LAST-MODIFIED:20250407T202254Z
UID:5562-1746169200-1746171000@westernflsecond.com
SUMMARY:Bishop Larry E. Perkins Presents Clarion Call Prayer
DESCRIPTION:.
URL:https://westernflsecond.com/event/bishop-larry-e-perkins-presents-clarion-call-prayer-53/
LOCATION:Conference Line\, FL\, United States
CATEGORIES:Calendar
ATTACH;FMTTYPE=image/png:https://westernflsecond.com/wp-content/uploads/2025/04/Friday-Prayer-Slider.png
END:VEVENT
BEGIN:VEVENT
DTSTART;TZID=America/New_York:20250509T070000
DTEND;TZID=America/New_York:20250509T073000
DTSTAMP:20260423T125005
CREATED:20250428T231913Z
LAST-MODIFIED:20250428T231913Z
UID:5572-1746774000-1746775800@westernflsecond.com
SUMMARY:Bishop Larry E. Perkins Presents Clarion Call Prayer
DESCRIPTION:.
URL:https://westernflsecond.com/event/bishop-larry-e-perkins-presents-clarion-call-prayer-54/
LOCATION:Conference Line\, FL\, United States
CATEGORIES:Calendar
ATTACH;FMTTYPE=image/png:https://westernflsecond.com/wp-content/uploads/2025/04/Friday-Prayer-Slider.png
END:VEVENT
BEGIN:VEVENT
DTSTART;TZID=America/New_York:20250516T070000
DTEND;TZID=America/New_York:20250516T073000
DTSTAMP:20260423T125005
CREATED:20250428T232025Z
LAST-MODIFIED:20250428T232025Z
UID:5571-1747378800-1747380600@westernflsecond.com
SUMMARY:Bishop Larry E. Perkins Presents Clarion Call Prayer
DESCRIPTION:.
URL:https://westernflsecond.com/event/bishop-larry-e-perkins-presents-clarion-call-prayer-55/
LOCATION:Conference Line\, FL\, United States
CATEGORIES:Calendar
ATTACH;FMTTYPE=image/png:https://westernflsecond.com/wp-content/uploads/2025/04/Friday-Prayer-Slider.png
END:VEVENT
BEGIN:VEVENT
DTSTART;TZID=America/New_York:20250523T070000
DTEND;TZID=America/New_York:20250523T073000
DTSTAMP:20260423T125005
CREATED:20250428T232203Z
LAST-MODIFIED:20250428T232203Z
UID:5497-1747983600-1747985400@westernflsecond.com
SUMMARY:Bishop Larry E. Perkins Presents Clarion Call Prayer
DESCRIPTION:.
URL:https://westernflsecond.com/event/bishop-larry-e-perkins-presents-clarion-call-prayer-56/
LOCATION:Conference Line\, FL\, United States
CATEGORIES:Calendar
ATTACH;FMTTYPE=image/png:https://westernflsecond.com/wp-content/uploads/2025/04/Friday-Prayer-Slider.png
END:VEVENT
BEGIN:VEVENT
DTSTART;TZID=America/New_York:20250523T190000
DTEND;TZID=America/New_York:20250523T220000
DTSTAMP:20260423T125005
CREATED:20250311T151024Z
LAST-MODIFIED:20250311T151024Z
UID:5498-1748026800-1748037600@westernflsecond.com
SUMMARY:Bishop Larry E. Perkins Central FL Regional Visit
DESCRIPTION:.
URL:https://westernflsecond.com/event/bishop-larry-e-perkins-regional-visit/
LOCATION:Mission Road Church of God in Christ\, 151 Mission Rd\, Oviedo\, FL\, 32765\, United States
CATEGORIES:Calendar
ATTACH;FMTTYPE=image/jpeg:https://westernflsecond.com/wp-content/uploads/2025/03/A6E9DA9B-5072-4870-BF87-C7BB0AE9557E.jpeg
END:VEVENT
BEGIN:VEVENT
DTSTART;TZID=America/New_York:20250530T070000
DTEND;TZID=America/New_York:20250530T073000
DTSTAMP:20260423T125005
CREATED:20250428T232314Z
LAST-MODIFIED:20250428T232314Z
UID:5556-1748588400-1748590200@westernflsecond.com
SUMMARY:Bishop Larry E. Perkins Presents Clarion Call Prayer
DESCRIPTION:.
URL:https://westernflsecond.com/event/bishop-larry-e-perkins-presents-clarion-call-prayer-57/
LOCATION:Conference Line\, FL\, United States
CATEGORIES:Calendar
ATTACH;FMTTYPE=image/png:https://westernflsecond.com/wp-content/uploads/2025/04/Friday-Prayer-Slider.png
END:VEVENT
BEGIN:VEVENT
DTSTART;TZID=America/New_York:20250606T070000
DTEND;TZID=America/New_York:20250606T073000
DTSTAMP:20260423T125005
CREATED:20250529T152353Z
LAST-MODIFIED:20250529T172657Z
UID:5447-1749193200-1749195000@westernflsecond.com
SUMMARY:Bishop Larry E. Perkins Presents Clarion Call Prayer
DESCRIPTION:.
URL:https://westernflsecond.com/event/bishop-larry-e-perkins-presents-clarion-call-prayer-58/
LOCATION:Conference Line\, FL\, United States
CATEGORIES:Calendar
ATTACH;FMTTYPE=image/png:https://westernflsecond.com/wp-content/uploads/2025/05/WF2-Prayer-Slider.png
END:VEVENT
BEGIN:VEVENT
DTSTART;TZID=America/New_York:20250613T070000
DTEND;TZID=America/New_York:20250613T073000
DTSTAMP:20260423T125005
CREATED:20250529T152437Z
LAST-MODIFIED:20250529T173020Z
UID:5479-1749798000-1749799800@westernflsecond.com
SUMMARY:Bishop Larry E. Perkins Presents Clarion Call Prayer
DESCRIPTION:.
URL:https://westernflsecond.com/event/bishop-larry-e-perkins-presents-clarion-call-prayer-59/
LOCATION:Conference Line\, FL\, United States
CATEGORIES:Calendar
ATTACH;FMTTYPE=image/png:https://westernflsecond.com/wp-content/uploads/2025/05/WF2-Prayer-Slider.png
END:VEVENT
BEGIN:VEVENT
DTSTART;TZID=America/New_York:20250620T070000
DTEND;TZID=America/New_York:20250620T073000
DTSTAMP:20260423T125005
CREATED:20250529T152553Z
LAST-MODIFIED:20250529T173256Z
UID:5446-1750402800-1750404600@westernflsecond.com
SUMMARY:Bishop Larry E. Perkins Presents Clarion Call Prayer
DESCRIPTION:.
URL:https://westernflsecond.com/event/bishop-larry-e-perkins-presents-clarion-call-prayer-60/
LOCATION:Conference Line\, FL\, United States
CATEGORIES:Calendar
ATTACH;FMTTYPE=image/png:https://westernflsecond.com/wp-content/uploads/2025/05/WF2-Prayer-Slider.png
END:VEVENT
BEGIN:VEVENT
DTSTART;TZID=America/New_York:20250627T070000
DTEND;TZID=America/New_York:20250627T073000
DTSTAMP:20260423T125005
CREATED:20250529T152915Z
LAST-MODIFIED:20250530T202650Z
UID:5788-1751007600-1751009400@westernflsecond.com
SUMMARY:Bishop Larry E. Perkins Presents Clarion Call Prayer
DESCRIPTION:.
URL:https://westernflsecond.com/event/bishop-larry-e-perkins-presents-clarion-call-prayer-61/
LOCATION:Conference Line\, FL\, United States
CATEGORIES:Calendar
ATTACH;FMTTYPE=image/png:https://westernflsecond.com/wp-content/uploads/2025/05/WF2-Prayer-Slider.png
END:VEVENT
BEGIN:VEVENT
DTSTART;TZID=America/New_York:20250704T070000
DTEND;TZID=America/New_York:20250704T073000
DTSTAMP:20260423T125005
CREATED:20250630T204915Z
LAST-MODIFIED:20250630T204917Z
UID:5943-1751612400-1751614200@westernflsecond.com
SUMMARY:Bishop Larry E. Perkins Presents Clarion Call Prayer
DESCRIPTION:.
URL:https://westernflsecond.com/event/bishop-larry-e-perkins-presents-clarion-call-prayer-62/
LOCATION:Conference Line\, FL\, United States
CATEGORIES:Calendar
ATTACH;FMTTYPE=image/png:https://westernflsecond.com/wp-content/uploads/2025/05/WF2-Prayer-Slider.png
END:VEVENT
BEGIN:VEVENT
DTSTART;TZID=America/New_York:20250711T070000
DTEND;TZID=America/New_York:20250711T073000
DTSTAMP:20260423T125005
CREATED:20250630T205053Z
LAST-MODIFIED:20250630T205336Z
UID:5947-1752217200-1752219000@westernflsecond.com
SUMMARY:Bishop Larry E. Perkins Presents Clarion Call Prayer
DESCRIPTION:.
URL:https://westernflsecond.com/event/bishop-larry-e-perkins-presents-clarion-call-prayer-63/
LOCATION:Conference Line\, FL\, United States
CATEGORIES:Calendar
ATTACH;FMTTYPE=image/png:https://westernflsecond.com/wp-content/uploads/2025/05/WF2-Prayer-Slider.png
END:VEVENT
BEGIN:VEVENT
DTSTART;TZID=America/New_York:20250718T070000
DTEND;TZID=America/New_York:20250718T073000
DTSTAMP:20260423T125005
CREATED:20250630T205203Z
LAST-MODIFIED:20250630T205205Z
UID:5949-1752822000-1752823800@westernflsecond.com
SUMMARY:Bishop Larry E. Perkins Presents Clarion Call Prayer
DESCRIPTION:.
URL:https://westernflsecond.com/event/bishop-larry-e-perkins-presents-clarion-call-prayer-64/
LOCATION:Conference Line\, FL\, United States
CATEGORIES:Calendar
ATTACH;FMTTYPE=image/png:https://westernflsecond.com/wp-content/uploads/2025/05/WF2-Prayer-Slider.png
END:VEVENT
BEGIN:VEVENT
DTSTART;TZID=America/New_York:20250725T070000
DTEND;TZID=America/New_York:20250725T073000
DTSTAMP:20260423T125005
CREATED:20250630T205429Z
LAST-MODIFIED:20250630T205431Z
UID:5946-1753426800-1753428600@westernflsecond.com
SUMMARY:Bishop Larry E. Perkins Presents Clarion Call Prayer
DESCRIPTION:.
URL:https://westernflsecond.com/event/bishop-larry-e-perkins-presents-clarion-call-prayer-65/
LOCATION:Conference Line\, FL\, United States
CATEGORIES:Calendar
ATTACH;FMTTYPE=image/png:https://westernflsecond.com/wp-content/uploads/2025/05/WF2-Prayer-Slider.png
END:VEVENT
BEGIN:VEVENT
DTSTART;TZID=America/New_York:20250728T190000
DTEND;TZID=America/New_York:20250801T230000
DTSTAMP:20260423T125005
CREATED:20250530T203428Z
LAST-MODIFIED:20250723T163714Z
UID:5849-1753729200-1754089200@westernflsecond.com
SUMMARY:Holy Convocation & AIM Convention  -  REGISTER NOW
DESCRIPTION:Click Here to REGISTER NOW
URL:https://westernflsecond.com/event/2025-holy-convocation-aim-convention/
LOCATION:FL
CATEGORIES:Calendar
ATTACH;FMTTYPE=image/png:https://westernflsecond.com/wp-content/uploads/2018/02/HolyConvo2025.png
END:VEVENT
BEGIN:VEVENT
DTSTART;TZID=America/New_York:20250808T070000
DTEND;TZID=America/New_York:20250808T073000
DTSTAMP:20260423T125005
CREATED:20250723T164400Z
LAST-MODIFIED:20250723T164401Z
UID:5956-1754636400-1754638200@westernflsecond.com
SUMMARY:Bishop Larry E. Perkins Presents Clarion Call Prayer
DESCRIPTION:.
URL:https://westernflsecond.com/event/bishop-larry-e-perkins-presents-clarion-call-prayer-67/
LOCATION:Conference Line\, FL\, United States
CATEGORIES:Calendar
ATTACH;FMTTYPE=image/png:https://westernflsecond.com/wp-content/uploads/2025/05/WF2-Prayer-Slider.png
END:VEVENT
BEGIN:VEVENT
DTSTART;TZID=America/New_York:20250815T070000
DTEND;TZID=America/New_York:20250815T073000
DTSTAMP:20260423T125005
CREATED:20250723T164734Z
LAST-MODIFIED:20250723T164735Z
UID:5955-1755241200-1755243000@westernflsecond.com
SUMMARY:Bishop Larry E. Perkins Presents Clarion Call Prayer
DESCRIPTION:.
URL:https://westernflsecond.com/event/bishop-larry-e-perkins-presents-clarion-call-prayer-68/
LOCATION:Conference Line\, FL\, United States
CATEGORIES:Calendar
ATTACH;FMTTYPE=image/png:https://westernflsecond.com/wp-content/uploads/2025/05/WF2-Prayer-Slider.png
END:VEVENT
BEGIN:VEVENT
DTSTART;TZID=America/New_York:20250822T070000
DTEND;TZID=America/New_York:20250822T073000
DTSTAMP:20260423T125005
CREATED:20250723T164134Z
LAST-MODIFIED:20250723T164850Z
UID:5942-1755846000-1755847800@westernflsecond.com
SUMMARY:Bishop Larry E. Perkins Presents Clarion Call Prayer
DESCRIPTION:.
URL:https://westernflsecond.com/event/bishop-larry-e-perkins-presents-clarion-call-prayer-66/
LOCATION:Conference Line\, FL\, United States
CATEGORIES:Calendar
ATTACH;FMTTYPE=image/png:https://westernflsecond.com/wp-content/uploads/2025/05/WF2-Prayer-Slider.png
END:VEVENT
BEGIN:VEVENT
DTSTART;TZID=America/New_York:20250829T070000
DTEND;TZID=America/New_York:20250829T073000
DTSTAMP:20260423T125005
CREATED:20250723T165342Z
LAST-MODIFIED:20250723T165343Z
UID:5959-1756450800-1756452600@westernflsecond.com
SUMMARY:Bishop Larry E. Perkins Presents Clarion Call Prayer
DESCRIPTION:.
URL:https://westernflsecond.com/event/bishop-larry-e-perkins-presents-clarion-call-prayer-69/
LOCATION:Conference Line\, FL\, United States
CATEGORIES:Calendar
ATTACH;FMTTYPE=image/png:https://westernflsecond.com/wp-content/uploads/2025/05/WF2-Prayer-Slider.png
END:VEVENT
BEGIN:VEVENT
DTSTART;TZID=America/New_York:20250905T070000
DTEND;TZID=America/New_York:20250905T073000
DTSTAMP:20260423T125005
CREATED:20250901T154811Z
LAST-MODIFIED:20250901T154812Z
UID:5787-1757055600-1757057400@westernflsecond.com
SUMMARY:Bishop Larry E. Perkins Presents Clarion Call Prayer
DESCRIPTION:.
URL:https://westernflsecond.com/event/bishop-larry-e-perkins-presents-clarion-call-prayer-70/
LOCATION:Conference Line\, FL\, United States
CATEGORIES:Calendar
ATTACH;FMTTYPE=image/png:https://westernflsecond.com/wp-content/uploads/2025/05/WF2-Prayer-Slider.png
END:VEVENT
BEGIN:VEVENT
DTSTART;TZID=America/New_York:20250912T070000
DTEND;TZID=America/New_York:20250912T073000
DTSTAMP:20260423T125005
CREATED:20250901T154949Z
LAST-MODIFIED:20250901T154950Z
UID:5968-1757660400-1757662200@westernflsecond.com
SUMMARY:Bishop Larry E. Perkins Presents Clarion Call Prayer
DESCRIPTION:.
URL:https://westernflsecond.com/event/bishop-larry-e-perkins-presents-clarion-call-prayer-71/
LOCATION:Conference Line\, FL\, United States
CATEGORIES:Calendar
ATTACH;FMTTYPE=image/png:https://westernflsecond.com/wp-content/uploads/2025/05/WF2-Prayer-Slider.png
END:VEVENT
BEGIN:VEVENT
DTSTART;TZID=America/New_York:20250919T070000
DTEND;TZID=America/New_York:20250919T073000
DTSTAMP:20260423T125005
CREATED:20250901T155116Z
LAST-MODIFIED:20250901T155117Z
UID:5969-1758265200-1758267000@westernflsecond.com
SUMMARY:Bishop Larry E. Perkins Presents Clarion Call Prayer
DESCRIPTION:.
URL:https://westernflsecond.com/event/bishop-larry-e-perkins-presents-clarion-call-prayer-72/
LOCATION:Conference Line\, FL\, United States
CATEGORIES:Calendar
ATTACH;FMTTYPE=image/png:https://westernflsecond.com/wp-content/uploads/2025/05/WF2-Prayer-Slider.png
END:VEVENT
BEGIN:VEVENT
DTSTART;TZID=America/New_York:20250926T070000
DTEND;TZID=America/New_York:20250926T073000
DTSTAMP:20260423T125005
CREATED:20250901T155226Z
LAST-MODIFIED:20250901T155227Z
UID:5978-1758870000-1758871800@westernflsecond.com
SUMMARY:Bishop Larry E. Perkins Presents Clarion Call Prayer
DESCRIPTION:.
URL:https://westernflsecond.com/event/bishop-larry-e-perkins-presents-clarion-call-prayer-73/
LOCATION:Conference Line\, FL\, United States
CATEGORIES:Calendar
ATTACH;FMTTYPE=image/png:https://westernflsecond.com/wp-content/uploads/2025/05/WF2-Prayer-Slider.png
END:VEVENT
BEGIN:VEVENT
DTSTART;TZID=America/New_York:20251003T070000
DTEND;TZID=America/New_York:20251003T073000
DTSTAMP:20260423T125005
CREATED:20250901T155437Z
LAST-MODIFIED:20250901T155438Z
UID:5979-1759474800-1759476600@westernflsecond.com
SUMMARY:Bishop Larry E. Perkins Presents Clarion Call Prayer
DESCRIPTION:.
URL:https://westernflsecond.com/event/bishop-larry-e-perkins-presents-clarion-call-prayer-74/
LOCATION:Conference Line\, FL\, United States
CATEGORIES:Calendar
ATTACH;FMTTYPE=image/png:https://westernflsecond.com/wp-content/uploads/2025/05/WF2-Prayer-Slider.png
END:VEVENT
BEGIN:VEVENT
DTSTART;TZID=America/New_York:20251010T070000
DTEND;TZID=America/New_York:20251010T073000
DTSTAMP:20260423T125005
CREATED:20250901T155604Z
LAST-MODIFIED:20250901T155605Z
UID:5980-1760079600-1760081400@westernflsecond.com
SUMMARY:Bishop Larry E. Perkins Presents Clarion Call Prayer
DESCRIPTION:.
URL:https://westernflsecond.com/event/bishop-larry-e-perkins-presents-clarion-call-prayer-75/
LOCATION:Conference Line\, FL\, United States
CATEGORIES:Calendar
ATTACH;FMTTYPE=image/png:https://westernflsecond.com/wp-content/uploads/2025/05/WF2-Prayer-Slider.png
END:VEVENT
BEGIN:VEVENT
DTSTART;TZID=America/New_York:20251017T070000
DTEND;TZID=America/New_York:20251017T073000
DTSTAMP:20260423T125005
CREATED:20250901T155700Z
LAST-MODIFIED:20250901T155701Z
UID:5983-1760684400-1760686200@westernflsecond.com
SUMMARY:Bishop Larry E. Perkins Presents Clarion Call Prayer
DESCRIPTION:.
URL:https://westernflsecond.com/event/bishop-larry-e-perkins-presents-clarion-call-prayer-76/
LOCATION:Conference Line\, FL\, United States
CATEGORIES:Calendar
ATTACH;FMTTYPE=image/png:https://westernflsecond.com/wp-content/uploads/2025/05/WF2-Prayer-Slider.png
END:VEVENT
END:VCALENDAR