BEGIN:VCALENDAR
VERSION:2.0
PRODID:-// - ECPv6.3.1//NONSGML v1.0//EN
CALSCALE:GREGORIAN
METHOD:PUBLISH
X-ORIGINAL-URL:https://westernflsecond.com
X-WR-CALDESC:Events for 
REFRESH-INTERVAL;VALUE=DURATION:PT1H
X-Robots-Tag:noindex
X-PUBLISHED-TTL:PT1H
BEGIN:VTIMEZONE
TZID:America/New_York
BEGIN:DAYLIGHT
TZOFFSETFROM:-0500
TZOFFSETTO:-0400
TZNAME:EDT
DTSTART:20230312T070000
END:DAYLIGHT
BEGIN:STANDARD
TZOFFSETFROM:-0400
TZOFFSETTO:-0500
TZNAME:EST
DTSTART:20231105T060000
END:STANDARD
BEGIN:DAYLIGHT
TZOFFSETFROM:-0500
TZOFFSETTO:-0400
TZNAME:EDT
DTSTART:20240310T070000
END:DAYLIGHT
BEGIN:STANDARD
TZOFFSETFROM:-0400
TZOFFSETTO:-0500
TZNAME:EST
DTSTART:20241103T060000
END:STANDARD
TZID:UTC
BEGIN:STANDARD
TZOFFSETFROM:+0000
TZOFFSETTO:+0000
TZNAME:UTC
DTSTART:20240101T000000
END:STANDARD
END:VTIMEZONE
BEGIN:VEVENT
DTSTART;TZID=America/New_York:20231013T070000
DTEND;TZID=America/New_York:20231013T073000
DTSTAMP:20260425T114047
CREATED:20231002T171219Z
LAST-MODIFIED:20231002T171219Z
UID:4952-1697180400-1697182200@westernflsecond.com
SUMMARY:Bishop Larry E. Perkins Presents Clarion Call Prayer
DESCRIPTION:.
URL:https://westernflsecond.com/event/bishop-larry-e-perkins-presents-clarion-call-prayer-11/
LOCATION:Conference Line\, FL\, United States
CATEGORIES:Calendar
ATTACH;FMTTYPE=image/png:https://westernflsecond.com/wp-content/uploads/2023/09/Friday-Prayer-Slider.png
END:VEVENT
BEGIN:VEVENT
DTSTART;TZID=America/New_York:20231014T090000
DTEND;TZID=America/New_York:20231014T093000
DTSTAMP:20260425T114047
CREATED:20231002T163846Z
LAST-MODIFIED:20231002T163846Z
UID:4944-1697274000-1697275800@westernflsecond.com
SUMMARY:Perk Up With Bishop Perkins
DESCRIPTION:.
URL:https://westernflsecond.com/event/perk-up-with-bishop-perkins-36/
LOCATION:Facebook LIVE – Mission Road Church Of God In Christ\, FL\, United States
CATEGORIES:Calendar
ATTACH;FMTTYPE=image/png:https://westernflsecond.com/wp-content/uploads/2021/04/Perk-Up2-slider.png
END:VEVENT
BEGIN:VEVENT
DTSTART;TZID=America/New_York:20231020T070000
DTEND;TZID=America/New_York:20231020T073000
DTSTAMP:20260425T114047
CREATED:20231002T172516Z
LAST-MODIFIED:20231002T172516Z
UID:4954-1697785200-1697787000@westernflsecond.com
SUMMARY:Bishop Larry E. Perkins Presents Clarion Call Prayer
DESCRIPTION:.
URL:https://westernflsecond.com/event/bishop-larry-e-perkins-presents-clarion-call-prayer-12/
LOCATION:Conference Line\, FL\, United States
CATEGORIES:Calendar
ATTACH;FMTTYPE=image/png:https://westernflsecond.com/wp-content/uploads/2023/09/Friday-Prayer-Slider.png
END:VEVENT
BEGIN:VEVENT
DTSTART;TZID=America/New_York:20231021T090000
DTEND;TZID=America/New_York:20231021T093000
DTSTAMP:20260425T114047
CREATED:20231002T164929Z
LAST-MODIFIED:20231002T170108Z
UID:4946-1697878800-1697880600@westernflsecond.com
SUMMARY:Perk Up With Bishop Perkins
DESCRIPTION:.
URL:https://westernflsecond.com/event/perk-up-with-bishop-perkins-37/
LOCATION:Facebook LIVE – Mission Road Church Of God In Christ\, FL\, United States
CATEGORIES:Calendar
ATTACH;FMTTYPE=image/png:https://westernflsecond.com/wp-content/uploads/2021/04/Perk-Up2-slider.png
END:VEVENT
BEGIN:VEVENT
DTSTART;TZID=America/New_York:20231027T070000
DTEND;TZID=America/New_York:20231027T073000
DTSTAMP:20260425T114047
CREATED:20231002T181133Z
LAST-MODIFIED:20231002T181553Z
UID:4956-1698390000-1698391800@westernflsecond.com
SUMMARY:Bishop Larry E. Perkins Presents Clarion Call Prayer
DESCRIPTION:.
URL:https://westernflsecond.com/event/bishop-larry-e-perkins-presents-clarion-call-prayer-13/
LOCATION:Conference Line\, FL\, United States
CATEGORIES:Calendar
ATTACH;FMTTYPE=image/png:https://westernflsecond.com/wp-content/uploads/2023/09/Friday-Prayer-Slider.png
END:VEVENT
BEGIN:VEVENT
DTSTART;TZID=America/New_York:20231028T090000
DTEND;TZID=America/New_York:20231028T093000
DTSTAMP:20260425T114047
CREATED:20231002T170154Z
LAST-MODIFIED:20231002T170154Z
UID:4948-1698483600-1698485400@westernflsecond.com
SUMMARY:Perk Up With Bishop Perkins
DESCRIPTION:.
URL:https://westernflsecond.com/event/perk-up-with-bishop-perkins-38/
LOCATION:Facebook LIVE – Mission Road Church Of God In Christ\, FL\, United States
CATEGORIES:Calendar
ATTACH;FMTTYPE=image/png:https://westernflsecond.com/wp-content/uploads/2021/04/Perk-Up2-slider.png
END:VEVENT
BEGIN:VEVENT
DTSTART;TZID=America/New_York:20231106T235900
DTEND;TZID=America/New_York:20231106T235900
DTSTAMP:20260425T114047
CREATED:20231016T173944Z
LAST-MODIFIED:20231016T173944Z
UID:4959-1699315140-1699315140@westernflsecond.com
SUMMARY:A Cry At Midnight
DESCRIPTION:
URL:https://westernflsecond.com/event/a-cry-at-midnight/
LOCATION:www.COGIC.org
CATEGORIES:Calendar
ATTACH;FMTTYPE=image/jpeg:https://westernflsecond.com/wp-content/uploads/2023/10/IMG_5767.jpg
END:VEVENT
BEGIN:VEVENT
DTSTART;TZID=America/New_York:20240202T070000
DTEND;TZID=America/New_York:20240202T073000
DTSTAMP:20260425T114047
CREATED:20240202T173239Z
LAST-MODIFIED:20240202T173239Z
UID:5007-1706857200-1706859000@westernflsecond.com
SUMMARY:Bishop Larry E. Perkins Presents Clarion Call Prayer
DESCRIPTION:.
URL:https://westernflsecond.com/event/bishop-larry-e-perkins-presents-clarion-call-prayer-14/
LOCATION:Conference Line\, FL\, United States
CATEGORIES:Calendar
ATTACH;FMTTYPE=image/png:https://westernflsecond.com/wp-content/uploads/2023/09/Friday-Prayer-Slider.png
END:VEVENT
BEGIN:VEVENT
DTSTART;TZID=America/New_York:20240203T090000
DTEND;TZID=America/New_York:20240203T093000
DTSTAMP:20260425T114047
CREATED:20240202T172815Z
LAST-MODIFIED:20240202T172815Z
UID:5000-1706950800-1706952600@westernflsecond.com
SUMMARY:Perk Up With Bishop Perkins
DESCRIPTION:.
URL:https://westernflsecond.com/event/perk-up-with-bishop-perkins-39/
LOCATION:Facebook LIVE – Mission Road Church Of God In Christ\, FL\, United States
CATEGORIES:Calendar
ATTACH;FMTTYPE=image/png:https://westernflsecond.com/wp-content/uploads/2021/04/Perk-Up2-slider.png
END:VEVENT
BEGIN:VEVENT
DTSTART;TZID=UTC:20240203T100000
DTEND;TZID=UTC:20240203T120000
DTSTAMP:20260425T114047
CREATED:20240130T013723Z
LAST-MODIFIED:20240202T175056Z
UID:4992-1706954400-1706961600@westernflsecond.com
SUMMARY:Planning Session 2024
DESCRIPTION:2024 PLANNING SESSION\nFEBRUARY 3rd  \nMission Road Church of God in Christ\n151 Mission Road\, Oviedo\, FL
URL:https://westernflsecond.com/event/planning-session-2024/
LOCATION:Mission Road Church of God in Christ\, 151 Mission Rd\, Oviedo\, FL\, 32765\, United States
CATEGORIES:Calendar
ATTACH;FMTTYPE=image/jpeg:https://westernflsecond.com/wp-content/uploads/2024/01/986404FD-5D30-456D-B389-5A4CD96FBCF6.jpeg
END:VEVENT
BEGIN:VEVENT
DTSTART;TZID=America/New_York:20240209T070000
DTEND;TZID=America/New_York:20240209T073000
DTSTAMP:20260425T114047
CREATED:20240202T173334Z
LAST-MODIFIED:20240207T173946Z
UID:5008-1707462000-1707463800@westernflsecond.com
SUMMARY:Bishop Larry E. Perkins Presents Clarion Call Prayer
DESCRIPTION:.
URL:https://westernflsecond.com/event/bishop-larry-e-perkins-presents-clarion-call-prayer-15/
LOCATION:Conference Line\, FL\, United States
CATEGORIES:Calendar
ATTACH;FMTTYPE=image/png:https://westernflsecond.com/wp-content/uploads/2023/09/Friday-Prayer-Slider.png
END:VEVENT
BEGIN:VEVENT
DTSTART;TZID=America/New_York:20240210T090000
DTEND;TZID=America/New_York:20240210T093000
DTSTAMP:20260425T114047
CREATED:20240202T172910Z
LAST-MODIFIED:20240202T172910Z
UID:5001-1707555600-1707557400@westernflsecond.com
SUMMARY:Perk Up With Bishop Perkins
DESCRIPTION:.
URL:https://westernflsecond.com/event/perk-up-with-bishop-perkins-40/
LOCATION:Facebook LIVE – Mission Road Church Of God In Christ\, FL\, United States
CATEGORIES:Calendar
ATTACH;FMTTYPE=image/png:https://westernflsecond.com/wp-content/uploads/2021/04/Perk-Up2-slider.png
END:VEVENT
BEGIN:VEVENT
DTSTART;TZID=America/New_York:20240216T070000
DTEND;TZID=America/New_York:20240216T073000
DTSTAMP:20260425T114047
CREATED:20240202T173412Z
LAST-MODIFIED:20240207T172911Z
UID:5009-1708066800-1708068600@westernflsecond.com
SUMMARY:Bishop Larry E. Perkins Presents Clarion Call Prayer
DESCRIPTION:.
URL:https://westernflsecond.com/event/bishop-larry-e-perkins-presents-clarion-call-prayer-16/
LOCATION:Conference Line\, FL\, United States
CATEGORIES:Calendar
ATTACH;FMTTYPE=image/png:https://westernflsecond.com/wp-content/uploads/2023/09/Friday-Prayer-Slider.png
END:VEVENT
BEGIN:VEVENT
DTSTART;TZID=America/New_York:20240217T090000
DTEND;TZID=America/New_York:20240217T093000
DTSTAMP:20260425T114047
CREATED:20240202T172953Z
LAST-MODIFIED:20240205T170704Z
UID:5002-1708160400-1708162200@westernflsecond.com
SUMMARY:Perk Up With Bishop Perkins
DESCRIPTION:.
URL:https://westernflsecond.com/event/perk-up-with-bishop-perkins-41/
LOCATION:Facebook LIVE – Mission Road Church Of God In Christ\, FL\, United States
CATEGORIES:Calendar
ATTACH;FMTTYPE=image/png:https://westernflsecond.com/wp-content/uploads/2021/04/Perk-Up2-slider.png
END:VEVENT
BEGIN:VEVENT
DTSTART;TZID=America/New_York:20240220T203000
DTEND;TZID=America/New_York:20240220T223000
DTSTAMP:20260425T114047
CREATED:20240205T183148Z
LAST-MODIFIED:20240205T183148Z
UID:5041-1708461000-1708468200@westernflsecond.com
SUMMARY:International Youth Dept. Southeast Region: Youth Leaders Training
DESCRIPTION:.
URL:https://westernflsecond.com/event/international-youth-dept-southeast-region-youth-leaders-training/
LOCATION:See Flyer for Details
CATEGORIES:Calendar
ATTACH;FMTTYPE=image/jpeg:https://westernflsecond.com/wp-content/uploads/2024/02/Youth-Leaders-Training.jpg
END:VEVENT
BEGIN:VEVENT
DTSTART;VALUE=DATE:20240223
DTEND;VALUE=DATE:20240225
DTSTAMP:20260425T114047
CREATED:20240203T175014Z
LAST-MODIFIED:20240205T165923Z
UID:5035-1708646400-1708819199@westernflsecond.com
SUMMARY:COGIC World Missions: Love & Compassion Summit
DESCRIPTION:.
URL:https://westernflsecond.com/event/cogic-world-missions-love-compassion-summit/
LOCATION:Brown Memorial Church of God in Christ\, 2313 EAST 27TH ST.\, TAMPA\, FL\, 33605\, United States
CATEGORIES:Calendar
ATTACH;FMTTYPE=image/jpeg:https://westernflsecond.com/wp-content/uploads/2024/02/5CD46463-BCF3-45F4-A730-40522C116593.jpeg
END:VEVENT
BEGIN:VEVENT
DTSTART;TZID=America/New_York:20240223T070000
DTEND;TZID=America/New_York:20240223T073000
DTSTAMP:20260425T114047
CREATED:20240202T173456Z
LAST-MODIFIED:20240205T181140Z
UID:5011-1708671600-1708673400@westernflsecond.com
SUMMARY:Bishop Larry E. Perkins Presents Clarion Call Prayer
DESCRIPTION:.
URL:https://westernflsecond.com/event/bishop-larry-e-perkins-presents-clarion-call-prayer-17/
LOCATION:Conference Line\, FL\, United States
CATEGORIES:Calendar
ATTACH;FMTTYPE=image/png:https://westernflsecond.com/wp-content/uploads/2023/09/Friday-Prayer-Slider.png
END:VEVENT
BEGIN:VEVENT
DTSTART;TZID=America/New_York:20240224T090000
DTEND;TZID=America/New_York:20240224T093000
DTSTAMP:20260425T114047
CREATED:20240202T173039Z
LAST-MODIFIED:20240205T170557Z
UID:4999-1708765200-1708767000@westernflsecond.com
SUMMARY:Perk Up With Bishop Perkins
DESCRIPTION:.
URL:https://westernflsecond.com/event/perk-up-with-bishop-perkins-42/
LOCATION:Facebook LIVE – Mission Road Church Of God In Christ\, FL\, United States
CATEGORIES:Calendar
ATTACH;FMTTYPE=image/png:https://westernflsecond.com/wp-content/uploads/2021/04/Perk-Up2-slider.png
END:VEVENT
BEGIN:VEVENT
DTSTART;TZID=America/New_York:20240224T130000
DTEND;TZID=America/New_York:20240224T150000
DTSTAMP:20260425T114047
CREATED:20240202T230327Z
LAST-MODIFIED:20240205T165821Z
UID:4950-1708779600-1708786800@westernflsecond.com
SUMMARY:International Youth Dept. Southeast Region: Florida State Revival
DESCRIPTION:.
URL:https://westernflsecond.com/event/international-youth-dept-southeast-region-florida-state-revival/
LOCATION:Mission Road Church of God in Christ\, 151 Mission Rd\, Oviedo\, FL\, 32765\, United States
CATEGORIES:Calendar
ATTACH;FMTTYPE=image/jpeg:https://westernflsecond.com/wp-content/uploads/2024/02/FL-Youth.jpg
END:VEVENT
BEGIN:VEVENT
DTSTART;TZID=America/New_York:20240301T070000
DTEND;TZID=America/New_York:20240301T073000
DTSTAMP:20260425T114047
CREATED:20240223T155924Z
LAST-MODIFIED:20240223T155924Z
UID:5256-1709276400-1709278200@westernflsecond.com
SUMMARY:Bishop Larry E. Perkins Presents Clarion Call Prayer
DESCRIPTION:.
URL:https://westernflsecond.com/event/bishop-larry-e-perkins-presents-clarion-call-prayer-19/
LOCATION:Conference Line\, FL\, United States
CATEGORIES:Calendar
ATTACH;FMTTYPE=image/png:https://westernflsecond.com/wp-content/uploads/2023/09/Friday-Prayer-Slider.png
END:VEVENT
BEGIN:VEVENT
DTSTART;TZID=America/New_York:20240302T090000
DTEND;TZID=America/New_York:20240302T093000
DTSTAMP:20260425T114047
CREATED:20240223T165149Z
LAST-MODIFIED:20240223T165149Z
UID:5267-1709370000-1709371800@westernflsecond.com
SUMMARY:Perk Up With Bishop Perkins
DESCRIPTION:.
URL:https://westernflsecond.com/event/perk-up-with-bishop-perkins-43/
LOCATION:Facebook LIVE – Mission Road Church Of God In Christ\, FL\, United States
CATEGORIES:Calendar
ATTACH;FMTTYPE=image/png:https://westernflsecond.com/wp-content/uploads/2021/04/Perk-Up2-slider.png
END:VEVENT
BEGIN:VEVENT
DTSTART;TZID=America/New_York:20240308T070000
DTEND;TZID=America/New_York:20240308T073000
DTSTAMP:20260425T114047
CREATED:20240223T160330Z
LAST-MODIFIED:20240223T160330Z
UID:5259-1709881200-1709883000@westernflsecond.com
SUMMARY:Bishop Larry E. Perkins Presents Clarion Call Prayer
DESCRIPTION:.
URL:https://westernflsecond.com/event/bishop-larry-e-perkins-presents-clarion-call-prayer-20/
LOCATION:Conference Line\, FL\, United States
CATEGORIES:Calendar
ATTACH;FMTTYPE=image/png:https://westernflsecond.com/wp-content/uploads/2023/09/Friday-Prayer-Slider.png
END:VEVENT
BEGIN:VEVENT
DTSTART;TZID=America/New_York:20240309T090000
DTEND;TZID=America/New_York:20240309T093000
DTSTAMP:20260425T114047
CREATED:20240223T165243Z
LAST-MODIFIED:20240223T165243Z
UID:5268-1709974800-1709976600@westernflsecond.com
SUMMARY:Perk Up With Bishop Perkins
DESCRIPTION:.
URL:https://westernflsecond.com/event/perk-up-with-bishop-perkins-44/
LOCATION:Facebook LIVE – Mission Road Church Of God In Christ\, FL\, United States
CATEGORIES:Calendar
ATTACH;FMTTYPE=image/png:https://westernflsecond.com/wp-content/uploads/2021/04/Perk-Up2-slider.png
END:VEVENT
BEGIN:VEVENT
DTSTART;TZID=America/New_York:20240315T070000
DTEND;TZID=America/New_York:20240315T073000
DTSTAMP:20260425T114047
CREATED:20240223T160916Z
LAST-MODIFIED:20240223T160916Z
UID:5261-1710486000-1710487800@westernflsecond.com
SUMMARY:Bishop Larry E. Perkins Presents Clarion Call Prayer
DESCRIPTION:.
URL:https://westernflsecond.com/event/bishop-larry-e-perkins-presents-clarion-call-prayer-21/
LOCATION:Conference Line\, FL\, United States
CATEGORIES:Calendar
ATTACH;FMTTYPE=image/png:https://westernflsecond.com/wp-content/uploads/2023/09/Friday-Prayer-Slider.png
END:VEVENT
BEGIN:VEVENT
DTSTART;TZID=America/New_York:20240316T090000
DTEND;TZID=America/New_York:20240316T093000
DTSTAMP:20260425T114047
CREATED:20240223T165337Z
LAST-MODIFIED:20240223T165337Z
UID:5270-1710579600-1710581400@westernflsecond.com
SUMMARY:Perk Up With Bishop Perkins
DESCRIPTION:.
URL:https://westernflsecond.com/event/perk-up-with-bishop-perkins-45/
LOCATION:Facebook LIVE – Mission Road Church Of God In Christ\, FL\, United States
CATEGORIES:Calendar
ATTACH;FMTTYPE=image/png:https://westernflsecond.com/wp-content/uploads/2021/04/Perk-Up2-slider.png
END:VEVENT
BEGIN:VEVENT
DTSTART;TZID=America/New_York:20240322T070000
DTEND;TZID=America/New_York:20240322T073000
DTSTAMP:20260425T114047
CREATED:20240223T161025Z
LAST-MODIFIED:20240223T161025Z
UID:5263-1711090800-1711092600@westernflsecond.com
SUMMARY:Bishop Larry E. Perkins Presents Clarion Call Prayer
DESCRIPTION:.
URL:https://westernflsecond.com/event/bishop-larry-e-perkins-presents-clarion-call-prayer-22/
LOCATION:Conference Line\, FL\, United States
CATEGORIES:Calendar
ATTACH;FMTTYPE=image/png:https://westernflsecond.com/wp-content/uploads/2023/09/Friday-Prayer-Slider.png
END:VEVENT
BEGIN:VEVENT
DTSTART;TZID=America/New_York:20240323T090000
DTEND;TZID=America/New_York:20240323T093000
DTSTAMP:20260425T114047
CREATED:20240223T165436Z
LAST-MODIFIED:20240223T165436Z
UID:5272-1711184400-1711186200@westernflsecond.com
SUMMARY:Perk Up With Bishop Perkins
DESCRIPTION:.
URL:https://westernflsecond.com/event/perk-up-with-bishop-perkins-46/
LOCATION:Facebook LIVE – Mission Road Church Of God In Christ\, FL\, United States
CATEGORIES:Calendar
ATTACH;FMTTYPE=image/png:https://westernflsecond.com/wp-content/uploads/2021/04/Perk-Up2-slider.png
END:VEVENT
BEGIN:VEVENT
DTSTART;TZID=America/New_York:20240329T070000
DTEND;TZID=America/New_York:20240329T073000
DTSTAMP:20260425T114047
CREATED:20240223T161122Z
LAST-MODIFIED:20240223T161122Z
UID:5265-1711695600-1711697400@westernflsecond.com
SUMMARY:Bishop Larry E. Perkins Presents Clarion Call Prayer
DESCRIPTION:.
URL:https://westernflsecond.com/event/bishop-larry-e-perkins-presents-clarion-call-prayer-23/
LOCATION:Conference Line\, FL\, United States
CATEGORIES:Calendar
ATTACH;FMTTYPE=image/png:https://westernflsecond.com/wp-content/uploads/2023/09/Friday-Prayer-Slider.png
END:VEVENT
BEGIN:VEVENT
DTSTART;TZID=America/New_York:20240330T090000
DTEND;TZID=America/New_York:20240330T093000
DTSTAMP:20260425T114047
CREATED:20240223T165532Z
LAST-MODIFIED:20240223T165532Z
UID:5274-1711789200-1711791000@westernflsecond.com
SUMMARY:Perk Up With Bishop Perkins
DESCRIPTION:.
URL:https://westernflsecond.com/event/perk-up-with-bishop-perkins-47/
LOCATION:Facebook LIVE – Mission Road Church Of God In Christ\, FL\, United States
CATEGORIES:Calendar
ATTACH;FMTTYPE=image/png:https://westernflsecond.com/wp-content/uploads/2021/04/Perk-Up2-slider.png
END:VEVENT
BEGIN:VEVENT
DTSTART;TZID=America/New_York:20240419T070000
DTEND;TZID=America/New_York:20240419T073000
DTSTAMP:20260425T114047
CREATED:20240415T160708Z
LAST-MODIFIED:20240415T160708Z
UID:5281-1713510000-1713511800@westernflsecond.com
SUMMARY:Bishop Larry E. Perkins Presents Clarion Call Prayer
DESCRIPTION:.
URL:https://westernflsecond.com/event/bishop-larry-e-perkins-presents-clarion-call-prayer-24/
LOCATION:Conference Line\, FL\, United States
CATEGORIES:Calendar
ATTACH;FMTTYPE=image/png:https://westernflsecond.com/wp-content/uploads/2023/09/Friday-Prayer-Slider.png
END:VEVENT
END:VCALENDAR