BEGIN:VCALENDAR
VERSION:2.0
PRODID:-// - ECPv6.3.1//NONSGML v1.0//EN
CALSCALE:GREGORIAN
METHOD:PUBLISH
X-ORIGINAL-URL:https://westernflsecond.com
X-WR-CALDESC:Events for 
REFRESH-INTERVAL;VALUE=DURATION:PT1H
X-Robots-Tag:noindex
X-PUBLISHED-TTL:PT1H
BEGIN:VTIMEZONE
TZID:America/New_York
BEGIN:DAYLIGHT
TZOFFSETFROM:-0500
TZOFFSETTO:-0400
TZNAME:EDT
DTSTART:20240310T070000
END:DAYLIGHT
BEGIN:STANDARD
TZOFFSETFROM:-0400
TZOFFSETTO:-0500
TZNAME:EST
DTSTART:20241103T060000
END:STANDARD
END:VTIMEZONE
BEGIN:VEVENT
DTSTART;TZID=America/New_York:20240518T090000
DTEND;TZID=America/New_York:20240518T093000
DTSTAMP:20260425T113604
CREATED:20240506T215815Z
LAST-MODIFIED:20240506T215815Z
UID:5321-1716022800-1716024600@westernflsecond.com
SUMMARY:Perk Up With Bishop Perkins
DESCRIPTION:.
URL:https://westernflsecond.com/event/perk-up-with-bishop-perkins-51/
LOCATION:Facebook LIVE – Mission Road Church Of God In Christ\, FL\, United States
CATEGORIES:Calendar
ATTACH;FMTTYPE=image/png:https://westernflsecond.com/wp-content/uploads/2021/04/Perk-Up2-slider.png
END:VEVENT
BEGIN:VEVENT
DTSTART;TZID=America/New_York:20240524T070000
DTEND;TZID=America/New_York:20240524T073000
DTSTAMP:20260425T113604
CREATED:20240506T215309Z
LAST-MODIFIED:20240506T215309Z
UID:5318-1716534000-1716535800@westernflsecond.com
SUMMARY:Bishop Larry E. Perkins Presents Clarion Call Prayer
DESCRIPTION:.
URL:https://westernflsecond.com/event/bishop-larry-e-perkins-presents-clarion-call-prayer-28/
LOCATION:Conference Line\, FL\, United States
CATEGORIES:Calendar
ATTACH;FMTTYPE=image/png:https://westernflsecond.com/wp-content/uploads/2023/09/Friday-Prayer-Slider.png
END:VEVENT
BEGIN:VEVENT
DTSTART;TZID=America/New_York:20240525T090000
DTEND;TZID=America/New_York:20240525T093000
DTSTAMP:20260425T113604
CREATED:20240506T215922Z
LAST-MODIFIED:20240506T215922Z
UID:5327-1716627600-1716629400@westernflsecond.com
SUMMARY:Perk Up With Bishop Perkins
DESCRIPTION:.
URL:https://westernflsecond.com/event/perk-up-with-bishop-perkins-52/
LOCATION:Facebook LIVE – Mission Road Church Of God In Christ\, FL\, United States
CATEGORIES:Calendar
ATTACH;FMTTYPE=image/png:https://westernflsecond.com/wp-content/uploads/2021/04/Perk-Up2-slider.png
END:VEVENT
BEGIN:VEVENT
DTSTART;VALUE=DATE:20240527
DTEND;VALUE=DATE:20240528
DTSTAMP:20260425T113604
CREATED:20240415T165415Z
LAST-MODIFIED:20240506T220230Z
UID:5289-1716768000-1716854399@westernflsecond.com
SUMMARY:74th Women’s International Convention - COGIC \, Inc
DESCRIPTION:Church of God In Christ Inc.\n74th Women’s International Convention\nMay 27-31\, 2024\nOrlando\, Florida \nMother Barbara McCoo Lewis\,\nGeneral Supervisor & Convention President \nBishop J. Drew Sheard & Lady Karen Clark Sheard\,\nPresiding Bishop and First Lady \nLady Barbara McKinney\, Esq.\nWIC Administrative Facilitator \nRegister and View 2024 Convention Brochure:\nhttps://www.cogic.org/womensdepartment/
URL:https://westernflsecond.com/event/74th-womens-international-convention-cogic-inc/
LOCATION:FL
CATEGORIES:Calendar
ATTACH;FMTTYPE=image/jpeg:https://westernflsecond.com/wp-content/uploads/2024/04/24WIC-flyer.jpg
END:VEVENT
BEGIN:VEVENT
DTSTART;VALUE=DATE:20240528
DTEND;VALUE=DATE:20240529
DTSTAMP:20260425T113604
CREATED:20240415T165803Z
LAST-MODIFIED:20240506T220801Z
UID:5294-1716854400-1716940799@westernflsecond.com
SUMMARY:74th Women’s International Convention - COGIC \, Inc
DESCRIPTION:Church of God In Christ Inc.\n74th Women’s International Convention\nMay 27-31\, 2024\nOrlando\, Florida \nMother Barbara McCoo Lewis\,\nGeneral Supervisor & Convention President \nBishop J. Drew Sheard & Lady Karen Clark Sheard\,\nPresiding Bishop and First Lady \nLady Barbara McKinney\, Esq.\nWIC Administrative Facilitator \nRegister and View 2024 Convention Brochure:\nhttps://www.cogic.org/womensdepartment/
URL:https://westernflsecond.com/event/74th-womens-international-convention-cogic-inc-2/
LOCATION:FL
CATEGORIES:Calendar
ATTACH;FMTTYPE=image/jpeg:https://westernflsecond.com/wp-content/uploads/2024/04/24WIC-flyer.jpg
END:VEVENT
BEGIN:VEVENT
DTSTART;VALUE=DATE:20240529
DTEND;VALUE=DATE:20240530
DTSTAMP:20260425T113604
CREATED:20240415T165904Z
LAST-MODIFIED:20240506T220650Z
UID:5293-1716940800-1717027199@westernflsecond.com
SUMMARY:74th Women’s International Convention - COGIC \, Inc
DESCRIPTION:Church of God In Christ Inc.\n74th Women’s International Convention\nMay 27-31\, 2024\nOrlando\, Florida \nMother Barbara McCoo Lewis\,\nGeneral Supervisor & Convention President \nBishop J. Drew Sheard & Lady Karen Clark Sheard\,\nPresiding Bishop and First Lady \nLady Barbara McKinney\, Esq.\nWIC Administrative Facilitator \nRegister and View 2024 Convention Brochure:\nhttps://www.cogic.org/womensdepartment/
URL:https://westernflsecond.com/event/74th-womens-international-convention-cogic-inc-3/
LOCATION:FL
CATEGORIES:Calendar
ATTACH;FMTTYPE=image/jpeg:https://westernflsecond.com/wp-content/uploads/2024/04/24WIC-flyer.jpg
END:VEVENT
BEGIN:VEVENT
DTSTART;VALUE=DATE:20240530
DTEND;VALUE=DATE:20240531
DTSTAMP:20260425T113604
CREATED:20240415T171732Z
LAST-MODIFIED:20240506T220856Z
UID:5292-1717027200-1717113599@westernflsecond.com
SUMMARY:74th Women’s International Convention - COGIC \, Inc
DESCRIPTION:Church of God In Christ Inc.\n74th Women’s International Convention\nMay 27-31\, 2024\nOrlando\, Florida \nMother Barbara McCoo Lewis\,\nGeneral Supervisor & Convention President \nBishop J. Drew Sheard & Lady Karen Clark Sheard\,\nPresiding Bishop and First Lady \nLady Barbara McKinney\, Esq.\nWIC Administrative Facilitator \nRegister and View 2024 Convention Brochure:\nhttps://www.cogic.org/womensdepartment/
URL:https://westernflsecond.com/event/74th-womens-international-convention-cogic-inc-4/
LOCATION:FL
CATEGORIES:Calendar
ATTACH;FMTTYPE=image/jpeg:https://westernflsecond.com/wp-content/uploads/2024/04/24WIC-flyer.jpg
END:VEVENT
BEGIN:VEVENT
DTSTART;VALUE=DATE:20240531
DTEND;VALUE=DATE:20240601
DTSTAMP:20260425T113604
CREATED:20240415T172032Z
LAST-MODIFIED:20240506T220942Z
UID:5291-1717113600-1717199999@westernflsecond.com
SUMMARY:74th Women’s International Convention - COGIC \, Inc
DESCRIPTION:Church of God In Christ Inc.\n74th Women’s International Convention\nMay 27-31\, 2024\nOrlando\, Florida \nMother Barbara McCoo Lewis\,\nGeneral Supervisor & Convention President \nBishop J. Drew Sheard & Lady Karen Clark Sheard\,\nPresiding Bishop and First Lady \nLady Barbara McKinney\, Esq.\nWIC Administrative Facilitator \nRegister and View 2024 Convention Brochure:\nhttps://www.cogic.org/womensdepartment/
URL:https://westernflsecond.com/event/74th-womens-international-convention-cogic-inc-5/
LOCATION:FL
CATEGORIES:Calendar
ATTACH;FMTTYPE=image/jpeg:https://westernflsecond.com/wp-content/uploads/2024/04/24WIC-flyer.jpg
END:VEVENT
BEGIN:VEVENT
DTSTART;TZID=America/New_York:20240607T070000
DTEND;TZID=America/New_York:20240607T073000
DTSTAMP:20260425T113604
CREATED:20240606T204430Z
LAST-MODIFIED:20240606T204430Z
UID:5335-1717743600-1717745400@westernflsecond.com
SUMMARY:Bishop Larry E. Perkins Presents Clarion Call Prayer
DESCRIPTION:.
URL:https://westernflsecond.com/event/bishop-larry-e-perkins-presents-clarion-call-prayer-30/
LOCATION:Conference Line\, FL\, United States
CATEGORIES:Calendar
ATTACH;FMTTYPE=image/png:https://westernflsecond.com/wp-content/uploads/2023/09/Friday-Prayer-Slider.png
END:VEVENT
BEGIN:VEVENT
DTSTART;TZID=America/New_York:20240608T090000
DTEND;TZID=America/New_York:20240608T093000
DTSTAMP:20260425T113604
CREATED:20240606T212659Z
LAST-MODIFIED:20240606T212659Z
UID:5342-1717837200-1717839000@westernflsecond.com
SUMMARY:Perk Up With Bishop Perkins
DESCRIPTION:.
URL:https://westernflsecond.com/event/perk-up-with-bishop-perkins-53/
LOCATION:Facebook LIVE – Mission Road Church Of God In Christ\, FL\, United States
CATEGORIES:Calendar
ATTACH;FMTTYPE=image/png:https://westernflsecond.com/wp-content/uploads/2021/04/Perk-Up2-slider.png
END:VEVENT
BEGIN:VEVENT
DTSTART;TZID=America/New_York:20240614T070000
DTEND;TZID=America/New_York:20240614T073000
DTSTAMP:20260425T113604
CREATED:20240606T204659Z
LAST-MODIFIED:20240606T204659Z
UID:5334-1718348400-1718350200@westernflsecond.com
SUMMARY:Bishop Larry E. Perkins Presents Clarion Call Prayer
DESCRIPTION:.
URL:https://westernflsecond.com/event/bishop-larry-e-perkins-presents-clarion-call-prayer-31/
LOCATION:Conference Line\, FL\, United States
CATEGORIES:Calendar
ATTACH;FMTTYPE=image/png:https://westernflsecond.com/wp-content/uploads/2023/09/Friday-Prayer-Slider.png
END:VEVENT
BEGIN:VEVENT
DTSTART;TZID=America/New_York:20240615T090000
DTEND;TZID=America/New_York:20240615T093000
DTSTAMP:20260425T113604
CREATED:20240606T212842Z
LAST-MODIFIED:20240606T212842Z
UID:5322-1718442000-1718443800@westernflsecond.com
SUMMARY:Perk Up With Bishop Perkins
DESCRIPTION:.
URL:https://westernflsecond.com/event/perk-up-with-bishop-perkins-54/
LOCATION:Facebook LIVE – Mission Road Church Of God In Christ\, FL\, United States
CATEGORIES:Calendar
ATTACH;FMTTYPE=image/png:https://westernflsecond.com/wp-content/uploads/2021/04/Perk-Up2-slider.png
END:VEVENT
BEGIN:VEVENT
DTSTART;TZID=America/New_York:20240621T070000
DTEND;TZID=America/New_York:20240621T073000
DTSTAMP:20260425T113604
CREATED:20240606T211116Z
LAST-MODIFIED:20240606T211116Z
UID:5340-1718953200-1718955000@westernflsecond.com
SUMMARY:Bishop Larry E. Perkins Presents Clarion Call Prayer
DESCRIPTION:.
URL:https://westernflsecond.com/event/bishop-larry-e-perkins-presents-clarion-call-prayer-33/
LOCATION:Conference Line\, FL\, United States
CATEGORIES:Calendar
ATTACH;FMTTYPE=image/png:https://westernflsecond.com/wp-content/uploads/2023/09/Friday-Prayer-Slider.png
END:VEVENT
BEGIN:VEVENT
DTSTART;TZID=America/New_York:20240622T090000
DTEND;TZID=America/New_York:20240622T093000
DTSTAMP:20260425T113604
CREATED:20240606T212938Z
LAST-MODIFIED:20240606T212938Z
UID:5276-1719046800-1719048600@westernflsecond.com
SUMMARY:Perk Up With Bishop Perkins
DESCRIPTION:.
URL:https://westernflsecond.com/event/perk-up-with-bishop-perkins-55/
LOCATION:Facebook LIVE – Mission Road Church Of God In Christ\, FL\, United States
CATEGORIES:Calendar
ATTACH;FMTTYPE=image/png:https://westernflsecond.com/wp-content/uploads/2021/04/Perk-Up2-slider.png
END:VEVENT
BEGIN:VEVENT
DTSTART;TZID=America/New_York:20240628T070000
DTEND;TZID=America/New_York:20240628T073000
DTSTAMP:20260425T113604
CREATED:20240606T204831Z
LAST-MODIFIED:20240606T210456Z
UID:5333-1719558000-1719559800@westernflsecond.com
SUMMARY:Bishop Larry E. Perkins Presents Clarion Call Prayer
DESCRIPTION:.
URL:https://westernflsecond.com/event/bishop-larry-e-perkins-presents-clarion-call-prayer-32/
LOCATION:Conference Line\, FL\, United States
CATEGORIES:Calendar
ATTACH;FMTTYPE=image/png:https://westernflsecond.com/wp-content/uploads/2023/09/Friday-Prayer-Slider.png
END:VEVENT
BEGIN:VEVENT
DTSTART;TZID=America/New_York:20240629T090000
DTEND;TZID=America/New_York:20240629T093000
DTSTAMP:20260425T113604
CREATED:20240606T213027Z
LAST-MODIFIED:20240606T213027Z
UID:5326-1719651600-1719653400@westernflsecond.com
SUMMARY:Perk Up With Bishop Perkins
DESCRIPTION:.
URL:https://westernflsecond.com/event/perk-up-with-bishop-perkins-56/
LOCATION:Facebook LIVE – Mission Road Church Of God In Christ\, FL\, United States
CATEGORIES:Calendar
ATTACH;FMTTYPE=image/png:https://westernflsecond.com/wp-content/uploads/2021/04/Perk-Up2-slider.png
END:VEVENT
BEGIN:VEVENT
DTSTART;TZID=America/New_York:20240705T070000
DTEND;TZID=America/New_York:20240705T073000
DTSTAMP:20260425T113604
CREATED:20230804T211641Z
LAST-MODIFIED:20240702T174339Z
UID:4667-1720162800-1720164600@westernflsecond.com
SUMMARY:Bishop Larry E. Perkins Presents Clarion Call Prayer
DESCRIPTION:.
URL:https://westernflsecond.com/event/bishop-larry-e-perkins-presents-clarion-call-prayer-34/
LOCATION:Conference Line\, FL\, United States
CATEGORIES:Calendar
ATTACH;FMTTYPE=image/png:https://westernflsecond.com/wp-content/uploads/2023/09/Friday-Prayer-Slider.png
END:VEVENT
BEGIN:VEVENT
DTSTART;TZID=America/New_York:20240706T090000
DTEND;TZID=America/New_York:20240706T093000
DTSTAMP:20260425T113604
CREATED:20240702T173358Z
LAST-MODIFIED:20240702T173358Z
UID:5365-1720256400-1720258200@westernflsecond.com
SUMMARY:Perk Up With Bishop Perkins
DESCRIPTION:.
URL:https://westernflsecond.com/event/perk-up-with-bishop-perkins-57/
LOCATION:Facebook LIVE – Mission Road Church Of God In Christ\, FL\, United States
CATEGORIES:Calendar
ATTACH;FMTTYPE=image/png:https://westernflsecond.com/wp-content/uploads/2021/04/Perk-Up2-slider.png
END:VEVENT
BEGIN:VEVENT
DTSTART;TZID=America/New_York:20240712T070000
DTEND;TZID=America/New_York:20240712T073000
DTSTAMP:20260425T113604
CREATED:20240205T180957Z
LAST-MODIFIED:20240702T174449Z
UID:5026-1720767600-1720769400@westernflsecond.com
SUMMARY:Bishop Larry E. Perkins Presents Clarion Call Prayer
DESCRIPTION:.
URL:https://westernflsecond.com/event/bishop-larry-e-perkins-presents-clarion-call-prayer-18/
LOCATION:Conference Line\, FL\, United States
CATEGORIES:Calendar
ATTACH;FMTTYPE=image/png:https://westernflsecond.com/wp-content/uploads/2023/09/Friday-Prayer-Slider.png
END:VEVENT
BEGIN:VEVENT
DTSTART;TZID=America/New_York:20240713T090000
DTEND;TZID=America/New_York:20240713T093000
DTSTAMP:20260425T113604
CREATED:20240702T173548Z
LAST-MODIFIED:20240702T173548Z
UID:5364-1720861200-1720863000@westernflsecond.com
SUMMARY:Perk Up With Bishop Perkins
DESCRIPTION:.
URL:https://westernflsecond.com/event/perk-up-with-bishop-perkins-58/
LOCATION:Facebook LIVE – Mission Road Church Of God In Christ\, FL\, United States
CATEGORIES:Calendar
ATTACH;FMTTYPE=image/png:https://westernflsecond.com/wp-content/uploads/2021/04/Perk-Up2-slider.png
END:VEVENT
BEGIN:VEVENT
DTSTART;TZID=America/New_York:20240719T070000
DTEND;TZID=America/New_York:20240719T073000
DTSTAMP:20260425T113604
CREATED:20240702T174751Z
LAST-MODIFIED:20240702T174751Z
UID:5279-1721372400-1721374200@westernflsecond.com
SUMMARY:Bishop Larry E. Perkins Presents Clarion Call Prayer
DESCRIPTION:.
URL:https://westernflsecond.com/event/bishop-larry-e-perkins-presents-clarion-call-prayer-36/
LOCATION:Conference Line\, FL\, United States
CATEGORIES:Calendar
ATTACH;FMTTYPE=image/png:https://westernflsecond.com/wp-content/uploads/2023/09/Friday-Prayer-Slider.png
END:VEVENT
BEGIN:VEVENT
DTSTART;TZID=America/New_York:20240720T090000
DTEND;TZID=America/New_York:20240720T093000
DTSTAMP:20260425T113604
CREATED:20240702T173746Z
LAST-MODIFIED:20240702T173746Z
UID:5363-1721466000-1721467800@westernflsecond.com
SUMMARY:Perk Up With Bishop Perkins
DESCRIPTION:.
URL:https://westernflsecond.com/event/perk-up-with-bishop-perkins-59/
LOCATION:Facebook LIVE – Mission Road Church Of God In Christ\, FL\, United States
CATEGORIES:Calendar
ATTACH;FMTTYPE=image/png:https://westernflsecond.com/wp-content/uploads/2021/04/Perk-Up2-slider.png
END:VEVENT
BEGIN:VEVENT
DTSTART;TZID=America/New_York:20240722T070000
DTEND;TZID=America/New_York:20240722T073000
DTSTAMP:20260425T113604
CREATED:20240715T142055Z
LAST-MODIFIED:20240715T142055Z
UID:5393-1721631600-1721633400@westernflsecond.com
SUMMARY:Pre-Convocation Consecrated Prayer
DESCRIPTION:.
URL:https://westernflsecond.com/event/pre-convocation-consecrated-prayer/
LOCATION:Conference Line\, FL\, United States
CATEGORIES:Calendar
ATTACH;FMTTYPE=image/jpeg:https://westernflsecond.com/wp-content/uploads/2024/07/450532064_1009481520723011_4964110468490217258_n.jpg
END:VEVENT
BEGIN:VEVENT
DTSTART;TZID=America/New_York:20240723T070000
DTEND;TZID=America/New_York:20240723T073000
DTSTAMP:20260425T113604
CREATED:20240715T142300Z
LAST-MODIFIED:20240715T142300Z
UID:5398-1721718000-1721719800@westernflsecond.com
SUMMARY:Pre-Convocation Consecrated Prayer
DESCRIPTION:.
URL:https://westernflsecond.com/event/pre-convocation-consecrated-prayer-2/
LOCATION:Conference Line\, FL\, United States
CATEGORIES:Calendar
ATTACH;FMTTYPE=image/jpeg:https://westernflsecond.com/wp-content/uploads/2024/07/450532064_1009481520723011_4964110468490217258_n.jpg
END:VEVENT
BEGIN:VEVENT
DTSTART;TZID=America/New_York:20240724T070000
DTEND;TZID=America/New_York:20240724T073000
DTSTAMP:20260425T113604
CREATED:20240715T142420Z
LAST-MODIFIED:20240715T142420Z
UID:5400-1721804400-1721806200@westernflsecond.com
SUMMARY:Pre-Convocation Consecrated Prayer
DESCRIPTION:.
URL:https://westernflsecond.com/event/pre-convocation-consecrated-prayer-3/
LOCATION:Conference Line\, FL\, United States
CATEGORIES:Calendar
ATTACH;FMTTYPE=image/jpeg:https://westernflsecond.com/wp-content/uploads/2024/07/450532064_1009481520723011_4964110468490217258_n.jpg
END:VEVENT
BEGIN:VEVENT
DTSTART;TZID=America/New_York:20240725T070000
DTEND;TZID=America/New_York:20240725T073000
DTSTAMP:20260425T113604
CREATED:20240715T142511Z
LAST-MODIFIED:20240715T142511Z
UID:5397-1721890800-1721892600@westernflsecond.com
SUMMARY:Pre-Convocation Consecrated Prayer
DESCRIPTION:.
URL:https://westernflsecond.com/event/pre-convocation-consecrated-prayer-4/
LOCATION:Conference Line\, FL\, United States
CATEGORIES:Calendar
ATTACH;FMTTYPE=image/jpeg:https://westernflsecond.com/wp-content/uploads/2024/07/450532064_1009481520723011_4964110468490217258_n.jpg
END:VEVENT
BEGIN:VEVENT
DTSTART;TZID=America/New_York:20240726T070000
DTEND;TZID=America/New_York:20240726T073000
DTSTAMP:20260425T113604
CREATED:20240715T142633Z
LAST-MODIFIED:20240715T142633Z
UID:5396-1721977200-1721979000@westernflsecond.com
SUMMARY:Pre-Convocation Consecrated Prayer
DESCRIPTION:.
URL:https://westernflsecond.com/event/pre-convocation-consecrated-prayer-5/
LOCATION:Conference Line\, FL\, United States
CATEGORIES:Calendar
ATTACH;FMTTYPE=image/jpeg:https://westernflsecond.com/wp-content/uploads/2024/07/450532064_1009481520723011_4964110468490217258_n.jpg
END:VEVENT
BEGIN:VEVENT
DTSTART;TZID=America/New_York:20240727T090000
DTEND;TZID=America/New_York:20240727T093000
DTSTAMP:20260425T113604
CREATED:20240702T174051Z
LAST-MODIFIED:20240702T174051Z
UID:5370-1722070800-1722072600@westernflsecond.com
SUMMARY:Perk Up With Bishop Perkins
DESCRIPTION:.
URL:https://westernflsecond.com/event/perk-up-with-bishop-perkins-60/
LOCATION:Facebook LIVE – Mission Road Church Of God In Christ\, FL\, United States
CATEGORIES:Calendar
ATTACH;FMTTYPE=image/png:https://westernflsecond.com/wp-content/uploads/2021/04/Perk-Up2-slider.png
END:VEVENT
BEGIN:VEVENT
DTSTART;TZID=America/New_York:20240729T193000
DTEND;TZID=America/New_York:20240729T220000
DTSTAMP:20260425T113604
CREATED:20240620T205614Z
LAST-MODIFIED:20240705T154525Z
UID:5349-1722281400-1722290400@westernflsecond.com
SUMMARY:2024 Holy Convocation & AIM Convention Musical
DESCRIPTION: 
URL:https://westernflsecond.com/event/2024-holy-convocation-musical/
LOCATION:Mission Road Church of God in Christ\, 151 Mission Rd\, Oviedo\, FL\, 32765\, United States
CATEGORIES:Calendar
ATTACH;FMTTYPE=image/jpeg:https://westernflsecond.com/wp-content/uploads/2024/06/image000000-1.jpg
END:VEVENT
BEGIN:VEVENT
DTSTART;VALUE=DATE:20240730
DTEND;VALUE=DATE:20240731
DTSTAMP:20260425T113604
CREATED:20240620T211241Z
LAST-MODIFIED:20240620T211711Z
UID:5352-1722297600-1722383999@westernflsecond.com
SUMMARY:2024 Holy Convocation & AIM Convention
DESCRIPTION:  \n\nHotel Accommodations\nFairfield Inn & Suites\, Orlando East\n3420 Lake Lynda Dr\nOrlando\, FL 32817 \n(407) 270-6480
URL:https://westernflsecond.com/event/2024-holy-convocation/
LOCATION:Mission Road Church of God in Christ\, 151 Mission Rd\, Oviedo\, FL\, 32765\, United States
CATEGORIES:Calendar
ATTACH;FMTTYPE=image/jpeg:https://westernflsecond.com/wp-content/uploads/2024/06/image000000-1.jpg
END:VEVENT
END:VCALENDAR